BEGIN:VCALENDAR
VERSION:2.0
PRODID:-//evangelische-termine.de//NONSGML kigkonsult.se iCalcreator 2.18//
CALSCALE:GREGORIAN
METHOD:PUBLISH
X-WR-CALNAME:iCal Evangelische-Termine 19.04.2026
X-WR-CALDESC:iCalender von Evangelische-Termine (19.04.2026)
X-WR-TIMEZONE:Europe/Berlin
X-MS-OLK-FORCEINSPECTOROPEN:TRUE
BEGIN:VTIMEZONE
TZID:Europe/Berlin
BEGIN:STANDARD
DTSTART:19701025T030000
TZOFFSETFROM:+0200
TZOFFSETTO:+0100
RRULE:FREQ=YEARLY;BYDAY=-1SU;BYMONTH=10
TZNAME:CET
END:STANDARD
BEGIN:DAYLIGHT
DTSTART:19700329T020000
TZOFFSETFROM:+0100
TZOFFSETTO:+0200
RRULE:FREQ=YEARLY;BYDAY=-1SU;BYMONTH=3
TZNAME:CEST
END:DAYLIGHT
END:VTIMEZONE
BEGIN:VEVENT
UID:20250524T100000-915473@evangelische-termine.de
DTSTAMP:20260419T194643Z
DESCRIPTION:\nKirchenkreis: überregional\nArt der Veranstaltung: Fortbildun
 gen / Seminare / Vorträge\nVeranstaltungsort: Evangelische Bücherei Kirchb
 erg\nSimmerner Straße 25\n55481 Kirchberg\nKurzbeschreibung / Untertitel: 
 Grundlagen für die Arbeit mit Kinder- und Jugendmedien\nAusführliche Besch
 reibung: In dieser Schulung nehmen wir die Kinder- und Jugendliteratur als
  wichtigen Bestandteil unseres Büchereibestands in den Blick. Gemeinsam er
 arbeiten wir Kriterien zur Bewertung von Kinder- und Jugendbüchern und tau
 schen uns über gelesene Pflichttitel aus. Neben der Auseinandersetzung mit
  aktuellen Entwicklungen und Trends sammeln wir Ideen für Veranstaltungsfo
 rmate\, die junge Leserinnen und Leser begeistern können.\nEin weiterer Sc
 hwerpunkt liegt auf der gezielten Bestandspflege in diesem Bereich: Wie be
 halte ich den Überblick\, welche Titel bleiben sollen und was aussortiert 
 werden kann? Wo finde ich verlässliche Informationen und Empfehlungen für 
 neue und geeignete Bücher?\nDie Teilnahme setzt die Lektüre von zwei bis d
 rei ausgewählten Titeln voraus\, die im Vorfeld bekannt gegeben werden.\nF
 örderbereich: Ehrenamt\nReferent/in: Helena Schäuble - Leiterin der EÖB Re
 magen\, Bildungsreferentin für Büchereiarbeit im evangelischen Erwachsenen
 bildungwerk\nAnsprechpartner/in - Leitung: Helena Schäuble\nKosten: 20\,00
 \n: 
DTSTART;TZID=Europe/Berlin:20250524T100000
DTEND;TZID=Europe/Berlin:20250524T170000
LOCATION:Kirchberg: Evangelische Bücherei Kirchberg
SUMMARY:Vielfalt\, Qualität und Ideen: Kinder- und Jugendliteratur in der B
 ücherei :: Grundlagen für die Arbeit mit Kinder- und Jugendmedien
URL:https://termine.ekir.de/veranstaltung_im_detail915473.html
END:VEVENT
END:VCALENDAR
