BEGIN:VCALENDAR
VERSION:2.0
PRODID:-//evangelische-termine.de//NONSGML kigkonsult.se iCalcreator 2.18//
CALSCALE:GREGORIAN
METHOD:PUBLISH
X-WR-CALNAME:iCal Evangelische-Termine 19.04.2026
X-WR-CALDESC:iCalender von Evangelische-Termine (19.04.2026)
X-WR-TIMEZONE:Europe/Berlin
X-MS-OLK-FORCEINSPECTOROPEN:TRUE
BEGIN:VTIMEZONE
TZID:Europe/Berlin
BEGIN:STANDARD
DTSTART:19701025T030000
TZOFFSETFROM:+0200
TZOFFSETTO:+0100
RRULE:FREQ=YEARLY;BYDAY=-1SU;BYMONTH=10
TZNAME:CET
END:STANDARD
BEGIN:DAYLIGHT
DTSTART:19700329T020000
TZOFFSETFROM:+0100
TZOFFSETTO:+0200
RRULE:FREQ=YEARLY;BYDAY=-1SU;BYMONTH=3
TZNAME:CEST
END:DAYLIGHT
END:VTIMEZONE
BEGIN:VEVENT
UID:20250927T093000-919504@evangelische-termine.de
DTSTAMP:20260419T175535Z
DESCRIPTION:\nKirchenkreis: überregional\nArt der Veranstaltung: Fortbildun
 gen / Seminare / Vorträge\nVeranstaltungsort: Ev. Erwachsenenbildungswerk 
 Rheinland-Süd e.V.\, Simmern\nHerzog-Reichard-Str. 30\n55469 Simmern\nKurz
 beschreibung / Untertitel: Tauchen Sie ein in unseren Workshop für Frauen 
 und lernen Sie überzeugend zu argumentieren und Diskussionen souverän zu m
 eistern.\nAusführliche Beschreibung: In praxisnahen Übungen lernen Sie\, I
 hre  eigenen Standpunkte klar und überzeugend zu vertreten\, während Sie g
 leichzeitig die Argumente der Gegenseite entkräften. Gemeinsam mit den and
 eren Teilnehmerinnen trainieren Sie\, schlagfertig und strukturiert zu arg
 umentieren.\n\nDies ist der erste Workshop unserer fünfteiligen Workshop-R
 eihe für Frauen. Die Workshops sind einzeln oder als Reihe buchbar.\n\n- 2
 7.09.2025: Argumentieren und Diskutieren\n- 06.12.2025: Gestalten ansprech
 ender Präsentationen mit PowerPoint und Canva\n- 24.01.2026: Spannend vort
 ragen - Mit Rhetorik und KI-Unterstützung\n- 28.03.2026: Souveränes und si
 cheres Auftreten\n- 09.05.2026: Bühne frei! - Präsentieren Sie ein Thema I
 hrer Wahl.\nInternetadresse (eigene Infos im Internet): https://eeb-sued.d
 e/workshopreihe-fuer-frauen/\nFörderbereich: Schlüsselqualifikationen mit 
 den Komponenten Sprachen und Medien\nReferent/in: Dr. Marion Krames\nAnspr
 echpartner/in - Leitung: Dr. Marion Krames\nKosten: 85\,– €\nZusatzinforma
 tionen: Die Anmeldung ist einschließlich bis zum 05.09.2025 möglich.\n: 
DTSTART;TZID=Europe/Berlin:20250927T093000
DTEND;TZID=Europe/Berlin:20250927T170000
LOCATION:Simmern: Ev. Erwachsenenbildungswerk Rheinland-Süd e.V.\, Simmern
SUMMARY:Workshop-Reihe für Frauen: Argumentieren und Diskutieren :: Tauchen
  Sie ein in unseren Workshop für Frauen und lernen Sie überzeugend zu argu
 mentieren und Diskussionen souverän zu meistern.
URL:https://termine.ekir.de/veranstaltung_im_detail919504.html
END:VEVENT
END:VCALENDAR
