BEGIN:VCALENDAR
VERSION:2.0
PRODID:-//evangelische-termine.de//NONSGML kigkonsult.se iCalcreator 2.18//
CALSCALE:GREGORIAN
METHOD:PUBLISH
X-WR-CALNAME:iCal Evangelische-Termine 19.04.2026
X-WR-CALDESC:iCalender von Evangelische-Termine (19.04.2026)
X-WR-TIMEZONE:Europe/Berlin
X-MS-OLK-FORCEINSPECTOROPEN:TRUE
BEGIN:VTIMEZONE
TZID:Europe/Berlin
BEGIN:STANDARD
DTSTART:19701025T030000
TZOFFSETFROM:+0200
TZOFFSETTO:+0100
RRULE:FREQ=YEARLY;BYDAY=-1SU;BYMONTH=10
TZNAME:CET
END:STANDARD
BEGIN:DAYLIGHT
DTSTART:19700329T020000
TZOFFSETFROM:+0100
TZOFFSETTO:+0200
RRULE:FREQ=YEARLY;BYDAY=-1SU;BYMONTH=3
TZNAME:CEST
END:DAYLIGHT
END:VTIMEZONE
BEGIN:VEVENT
UID:20251206T093000-919505@evangelische-termine.de
DTSTAMP:20260419T174503Z
DESCRIPTION:\nKirchenkreis: überregional\nArt der Veranstaltung: Fortbildun
 gen / Seminare / Vorträge\nVeranstaltungsort: Ev. Erwachsenenbildungswerk 
 Rheinland-Süd e.V.\, Simmern\nHerzog-Reichard-Str. 30\n55469 Simmern\nKurz
 beschreibung / Untertitel: Entdecken Sie in diesem  Workshop für Frauen gr
 undlegende Gestaltungsmöglichkeiten von PowerPoint und Canva.\nAusführlich
 e Beschreibung: Sie lernen in praktischen Übungen\, wie Bilder\, Farben\, 
 Schrift und Texte gezielt eingesetzt werden. Auch wird es darum gehen\, wi
 e Design und Psychologie zusammenwirken und Inhalte klar\, überzeugend und
  visuell ansprechend vermittelt werden können.\n\nDies ist der zweite Work
 shop unserer fünfteiligen Workshop-Reihe für Frauen. Die Workshops sind ei
 nzeln oder als Reihe buchbar.\n\n- 27.09.2025: Argumentieren und Diskutier
 en\n- 06.12.2025: Gestalten ansprechender Präsentationen mit PowerPoint un
 d Canva\n- 24.01.2026: Spannend vortragen - Mit Rhetorik und KI-Unterstütz
 ung\n- 28.03.2026: Souveränes und sicheres Auftreten\n- 09.05.2026: Bühne 
 frei! - Präsentieren Sie ein Thema Ihrer Wahl.\nFörderbereich: Schlüsselqu
 alifikationen mit den Komponenten Sprachen und Medien\nReferent/in: Dr. Ma
 rion Krames\, Carola Schick\nAnsprechpartner/in - Leitung: Dr. Marion Kram
 es\nKosten: 85\,- €\nZusatzinformationen: Die Anmeldung ist einschließlich
  bis zum 14.11.2025 möglich.\n: 
DTSTART;TZID=Europe/Berlin:20251206T093000
DTEND;TZID=Europe/Berlin:20251206T170000
LOCATION:Simmern: Ev. Erwachsenenbildungswerk Rheinland-Süd e.V.\, Simmern
SUMMARY:Verschoben: Workshop-Reihe für Frauen: Gestalten ansprechender Präs
 entationen :: Entdecken Sie in diesem  Workshop für Frauen grundlegende Ge
 staltungsmöglichkeiten von PowerPoint und Canva.
URL:https://termine.ekir.de/veranstaltung_im_detail919505.html
END:VEVENT
END:VCALENDAR
