BEGIN:VCALENDAR
VERSION:2.0
PRODID:-//evangelische-termine.de//NONSGML kigkonsult.se iCalcreator 2.18//
CALSCALE:GREGORIAN
METHOD:PUBLISH
X-WR-CALNAME:iCal Evangelische-Termine 19.04.2026
X-WR-CALDESC:iCalender von Evangelische-Termine (19.04.2026)
X-WR-TIMEZONE:Europe/Berlin
X-MS-OLK-FORCEINSPECTOROPEN:TRUE
BEGIN:VTIMEZONE
TZID:Europe/Berlin
BEGIN:STANDARD
DTSTART:19701025T030000
TZOFFSETFROM:+0200
TZOFFSETTO:+0100
RRULE:FREQ=YEARLY;BYDAY=-1SU;BYMONTH=10
TZNAME:CET
END:STANDARD
BEGIN:DAYLIGHT
DTSTART:19700329T020000
TZOFFSETFROM:+0100
TZOFFSETTO:+0200
RRULE:FREQ=YEARLY;BYDAY=-1SU;BYMONTH=3
TZNAME:CEST
END:DAYLIGHT
END:VTIMEZONE
BEGIN:VEVENT
UID:20260124T093000-919506@evangelische-termine.de
DTSTAMP:20260419T175603Z
DESCRIPTION:\nKirchenkreis: überregional\nArt der Veranstaltung: Fortbildun
 gen / Seminare / Vorträge\nVeranstaltungsort: Ev. Erwachsenenbildungswerk 
 Rheinland-Süd e.V.\, Simmern\nHerzog-Reichard-Str. 30\n55469 Simmern\nKurz
 beschreibung / Untertitel: Frauen-Workshop: Wie lassen sich Inhalte spanne
 nd vermitteln und welche Möglichkeiten bietet eigentlich die Künstliche In
 telligenz dafür?\nAusführliche Beschreibung: Sie lernen verschiedene rheto
 rische Möglichkeiten kennen\, die Aufmerksamkeit Ihres Publikums zu fessel
 n. Außerdem entdecken Sie\, wie Sie künstliche Intelligenz für die Themenr
 echerche und die Entwicklung Ihres Redemanuskripts nutzen können.\n\nDies 
 ist der dritte Workshop unserer fünfteiligen Workshop-Reihe für Frauen. Di
 e Workshops sind einzeln oder als Reihe buchbar.\n\n- 27.09.2025: Argument
 ieren und Diskutieren\n- 06.12.2025: Gestalten ansprechender Präsentatione
 n mit PowerPoint und Canva\n- 24.01.2026: Spannend vortragen - Mit Rhetori
 k und KI-Unterstützung\n- 28.03.2026: Souveränes und sicheres Auftreten\n-
  09.05.2026: Bühne frei! - Präsentieren Sie ein Thema Ihrer Wahl.\nFörderb
 ereich: Schlüsselqualifikationen mit den Komponenten Sprachen und Medien\n
 Referent/in: Dr. Marion Krames\nAnsprechpartner/in - Leitung: Dr. Marion K
 rames\nKosten: 85\,- €\nZusatzinformationen: Die Anmeldung ist möglich bis
  einschließlich 15.01.2026.\n: 
DTSTART;TZID=Europe/Berlin:20260124T093000
DTEND;TZID=Europe/Berlin:20260124T170000
LOCATION:Simmern: Ev. Erwachsenenbildungswerk Rheinland-Süd e.V.\, Simmern
SUMMARY:Workshop-Reihe für Frauen: Spannend vortragen – mit Rhetorik und KI
 -Unterstützung :: Frauen-Workshop: Wie lassen sich Inhalte spannend vermit
 teln und welche Möglichkeiten bietet eigentlich die Künstliche Intelligenz
  dafür?
URL:https://termine.ekir.de/veranstaltung_im_detail919506.html
END:VEVENT
END:VCALENDAR
