BEGIN:VCALENDAR
VERSION:2.0
PRODID:-//evangelische-termine.de//NONSGML kigkonsult.se iCalcreator 2.18//
CALSCALE:GREGORIAN
METHOD:PUBLISH
X-WR-CALNAME:iCal Evangelische-Termine 19.04.2026
X-WR-CALDESC:iCalender von Evangelische-Termine (19.04.2026)
X-WR-TIMEZONE:Europe/Berlin
X-MS-OLK-FORCEINSPECTOROPEN:TRUE
BEGIN:VTIMEZONE
TZID:Europe/Berlin
BEGIN:STANDARD
DTSTART:19701025T030000
TZOFFSETFROM:+0200
TZOFFSETTO:+0100
RRULE:FREQ=YEARLY;BYDAY=-1SU;BYMONTH=10
TZNAME:CET
END:STANDARD
BEGIN:DAYLIGHT
DTSTART:19700329T020000
TZOFFSETFROM:+0100
TZOFFSETTO:+0200
RRULE:FREQ=YEARLY;BYDAY=-1SU;BYMONTH=3
TZNAME:CEST
END:DAYLIGHT
END:VTIMEZONE
BEGIN:VEVENT
UID:20250527T100000-919695@evangelische-termine.de
DTSTAMP:20260419T193525Z
DESCRIPTION:\nKirchenkreis: überregional\nArt der Veranstaltung: Fortbildun
 gen / Seminare / Vorträge\nVeranstaltungsort: online\n- -\nKurzbeschreibun
 g / Untertitel: Das Siegelrecht – Was bedeutete es damals? Was bedeutet es
  heute?\nAusführliche Beschreibung: Heute kennen wir das Gütesiegel für Le
 bensmittel\, aber auch immer noch die Siegel des Rechts. Wie sind Siegel e
 ntstanden und welche Wirkung und Rechtskraft haben sie heute noch.\nDie Ve
 ranstaltung schafft einen kleinen geschichtlichen Überblick und gibt Einbl
 ick in das Siegelrecht der rheinischen Landeskirche.\nFörderbereich: Sonst
 iges\nReferent/in: Carola Schick\nAnsprechpartner/in - Leitung: Carola Sch
 ick\, Bildungsreferentin im eeb\nKosten: kostenfrei\nZusatzinformationen: 
 Anmeldung bis 26.05.2025\n: \nAnsprechpartner: Carola Schick eeb-sued@eeb-
 sued.de
DTSTART;TZID=Europe/Berlin:20250527T100000
DTEND;TZID=Europe/Berlin:20250527T110000
LOCATION:-: online
SUMMARY:Siegelrecht :: Einführung in das Siegelrecht – Was bedeutet es dama
 ls? Was bedeutet es heute?
URL:https://termine.ekir.de/veranstaltung_im_detail919695.html
END:VEVENT
END:VCALENDAR
