BEGIN:VCALENDAR
VERSION:2.0
PRODID:-//evangelische-termine.de//NONSGML kigkonsult.se iCalcreator 2.18//
CALSCALE:GREGORIAN
METHOD:PUBLISH
X-WR-CALNAME:iCal Evangelische-Termine 19.04.2026
X-WR-CALDESC:iCalender von Evangelische-Termine (19.04.2026)
X-WR-TIMEZONE:Europe/Berlin
X-MS-OLK-FORCEINSPECTOROPEN:TRUE
BEGIN:VTIMEZONE
TZID:Europe/Berlin
BEGIN:STANDARD
DTSTART:19701025T030000
TZOFFSETFROM:+0200
TZOFFSETTO:+0100
RRULE:FREQ=YEARLY;BYDAY=-1SU;BYMONTH=10
TZNAME:CET
END:STANDARD
BEGIN:DAYLIGHT
DTSTART:19700329T020000
TZOFFSETFROM:+0100
TZOFFSETTO:+0200
RRULE:FREQ=YEARLY;BYDAY=-1SU;BYMONTH=3
TZNAME:CEST
END:DAYLIGHT
END:VTIMEZONE
BEGIN:VEVENT
UID:20251212T143000-921886@evangelische-termine.de
DTSTAMP:20260419T174351Z
DESCRIPTION:\nKirchenkreis: überregional\nArt der Veranstaltung: Fortbildun
 gen / Seminare / Vorträge\nVeranstaltungsort: Ev. Erwachsenenbildungswerk 
 Rheinland-Süd e.V.\, Simmern\nHerzog-Reichard-Str. 30\n55469 Simmern\nKurz
 beschreibung / Untertitel: Einblick in die extrem rechte „Erlebniswelt“ au
 s Musik\, Freizeitaktivitäten und Gemeinschaft mit seinen Strukturen und V
 ernetzungen in Rheinland-Pfalz.\nAusführliche Beschreibung: Warum versuche
 n wir extrem rechte Erlebniswelten nachzuvollziehen?\nEine „Erlebniswelt“ 
 aus Musik und Freizeitaktivitäten bestimmt die Attraktivität rechter Szene
 n.\nDiese Erlebniswelten versprechen Gemeinschaft\, Action und Anerkennung
 . Sie übt eine starke Bindewirkung aus.\nIndem wir uns mit diesen vielfält
 igen Erlebniswelten beschäftigen\, bekommen wir auch einen guten Überblick
  über die Vielfalt rechtsextremer Strömungen.\nFörderbereich: Politische B
 ildung\nReferent/in: Demokratie-Zentrum Rheinland-Pfalz\nAnsprechpartner/i
 n - Leitung: Bildungsreferat\nKosten: -\nZusatzinformationen: Die Anmeldun
 g ist bis einschließlich 28.11.2025 möglich.\n: 
DTSTART;TZID=Europe/Berlin:20251212T143000
DTEND;TZID=Europe/Berlin:20251212T173000
LOCATION:Simmern: Ev. Erwachsenenbildungswerk Rheinland-Süd e.V.\, Simmern
SUMMARY:Verschoben: Rechtsextremismus und seine extrem rechte „Erlebniswelt
 “ in Rheinland-Pfalz :: Einblick in die extrem rechte „Erlebniswelt“ aus M
 usik\, Freizeitaktivitäten und Gemeinschaft mit seinen Strukturen und Vern
 etzungen in Rheinland-Pfalz
URL:https://termine.ekir.de/veranstaltung_im_detail921886.html
END:VEVENT
END:VCALENDAR
