BEGIN:VCALENDAR
VERSION:2.0
PRODID:-//evangelische-termine.de//NONSGML kigkonsult.se iCalcreator 2.18//
CALSCALE:GREGORIAN
METHOD:PUBLISH
X-WR-CALNAME:iCal Evangelische-Termine 19.04.2026
X-WR-CALDESC:iCalender von Evangelische-Termine (19.04.2026)
X-WR-TIMEZONE:Europe/Berlin
X-MS-OLK-FORCEINSPECTOROPEN:TRUE
BEGIN:VTIMEZONE
TZID:Europe/Berlin
BEGIN:STANDARD
DTSTART:19701025T030000
TZOFFSETFROM:+0200
TZOFFSETTO:+0100
RRULE:FREQ=YEARLY;BYDAY=-1SU;BYMONTH=10
TZNAME:CET
END:STANDARD
BEGIN:DAYLIGHT
DTSTART:19700329T020000
TZOFFSETFROM:+0100
TZOFFSETTO:+0200
RRULE:FREQ=YEARLY;BYDAY=-1SU;BYMONTH=3
TZNAME:CEST
END:DAYLIGHT
END:VTIMEZONE
BEGIN:VEVENT
UID:20250918T183000-923585@evangelische-termine.de
DTSTAMP:20260419T174351Z
DESCRIPTION:\nKirchenkreis: überregional\nArt der Veranstaltung: Fortbildun
 gen / Seminare / Vorträge\nVeranstaltungsort: online\n- -\nKurzbeschreibun
 g / Untertitel: Workshop für neue Kraft und Perspektiven im Umgang mit Ver
 änderungsprozessen in der Kirche.\nAusführliche Beschreibung: Was gibt uns
  Kraft und Orientierung in der Veränderung? Schnell aufeinanderfolgende\, 
 zum Teil sich überlappende Veränderungsprozesse führen bei vielen aktiven 
 Menschen in unserer Kirche zur Atemlosigkeit\, zur Ermüdung. \nDas abzuarb
 eitende Müssen auf unseren To-Do-Listen lähmt häufig die Kreativität und d
 en Antrieb zu Neuem.\nDer Workshop lädt ein zu einem Blickwechsel: Um Kraf
 t zu haben\, auf die Bedürfnisse anderer Menschen und neuer Zielgruppen un
 serer Arbeit zu schauen\, lädt er zunächst zu einem fürsorglichen Blick au
 f die eigene Bedürftigkeit und Sehnsucht ein.\nFörderbereich: Berufsübergr
 eifende extrafunktionale Schlüsselqualifikationen\nReferent/in: Simone Ent
 höfer\nKirchenrätin | Pfarrerin (Landeskirchenamt)\nAnsprechpartner/in - L
 eitung: Dr. Marion Krames\nKosten: -\nZusatzinformationen: Die Anmeldung i
 st möglich bis einschließlich 15.09.2025.\n: 
DTSTART;TZID=Europe/Berlin:20250918T183000
DTEND;TZID=Europe/Berlin:20250918T200000
LOCATION:-: online
SUMMARY:Verschoben: Woraus schöpfen wir Kraft und Orientierung in Zeiten de
 s Wandels in der Kirche? :: Workshop für neue Kraft und Perspektiven im Um
 gang mit Veränderungsprozessen in der Kirche.
URL:https://termine.ekir.de/veranstaltung_im_detail923585.html
END:VEVENT
END:VCALENDAR
