BEGIN:VCALENDAR
VERSION:2.0
PRODID:-//evangelische-termine.de//NONSGML kigkonsult.se iCalcreator 2.18//
CALSCALE:GREGORIAN
METHOD:PUBLISH
X-WR-CALNAME:iCal Evangelische-Termine 19.04.2026
X-WR-CALDESC:iCalender von Evangelische-Termine (19.04.2026)
X-WR-TIMEZONE:Europe/Berlin
X-MS-OLK-FORCEINSPECTOROPEN:TRUE
BEGIN:VTIMEZONE
TZID:Europe/Berlin
BEGIN:STANDARD
DTSTART:19701025T030000
TZOFFSETFROM:+0200
TZOFFSETTO:+0100
RRULE:FREQ=YEARLY;BYDAY=-1SU;BYMONTH=10
TZNAME:CET
END:STANDARD
BEGIN:DAYLIGHT
DTSTART:19700329T020000
TZOFFSETFROM:+0100
TZOFFSETTO:+0200
RRULE:FREQ=YEARLY;BYDAY=-1SU;BYMONTH=3
TZNAME:CEST
END:DAYLIGHT
END:VTIMEZONE
BEGIN:VEVENT
UID:20251009T183000-926330@evangelische-termine.de
DTSTAMP:20260419T174406Z
DESCRIPTION:\nKirchenkreis: überregional\nArt der Veranstaltung: Fortbildun
 gen / Seminare / Vorträge\nVeranstaltungsort: online\n- -\nKurzbeschreibun
 g / Untertitel: 1. Thema: Bücherei-Aktionen für Kinder im Kita- und Grunds
 chulalter\nAusführliche Beschreibung: Die meisten Büchereien bieten schwer
 punktmäßig für jüngere Kinder verschiedene Veranstaltungen und Aktionen zu
 r (frühkindlichen) Leseförderung an\, wie z. B. bibfit\, Vorlesenachmittag
 e\, Klassenführungen\, etc.\nIn diesem Seminar laden wir dazu ein\, genaue
 r hinzuschauen\, welche Zielgruppe(n) Sie (noch) erreichen oder künftig er
 reichen möchten und ggfs. das Angebot anzupassen. Hierzu werden einige pra
 xiserprobte Beispiele vorgestellt\, die Ihnen die Veranstaltungsarbeit mit
  Kindern erleichtern und Ihnen selbst auch viel Freude bereiten.\nFörderbe
 reich: Ehrenamt\nReferent/in: Andrea Minkwitz \nEhrenamtlich leitete sie 7
  Jahre die KÖB St. Katharina in Köln-Niehl. Dort ist sie seit über 20 Jahr
 en für die Veranstaltungs- und Öffentlichkeitsarbeit (inkl. Social media) 
 verantwortlich und probiert immer wieder neue Formate aus.\nAnsprechpartne
 r/in - Leitung: Helena Schäuble\nBilderungsreferentin für die Büchereiarbe
 it im EEB Rheinland-Süd\nSeit 2010 ehrenamtliche Leitung der EÖB Remagen u
 nd dort mit verantwortlich für die Veranstaltungsarbeit.\nKosten: 20\,– €
 \nZusatzinformationen: Verbindliche Anmeldung über die Homepage des EEB Rh
 einland-Süd bis einschließlich zum 29.09.2025.\n: 
DTSTART;TZID=Europe/Berlin:20251009T183000
DTEND;TZID=Europe/Berlin:20251009T200000
LOCATION:-: online
SUMMARY:Kleine Veranstaltungen – große Wirkung! :: 1. Thema: Bücherei-Aktio
 nen für Kinder im Kita- und Grundschulalter
URL:https://termine.ekir.de/veranstaltung_im_detail926330.html
END:VEVENT
END:VCALENDAR
