BEGIN:VCALENDAR
VERSION:2.0
PRODID:-//evangelische-termine.de//NONSGML kigkonsult.se iCalcreator 2.18//
CALSCALE:GREGORIAN
METHOD:PUBLISH
X-WR-CALNAME:iCal Evangelische-Termine 19.04.2026
X-WR-CALDESC:iCalender von Evangelische-Termine (19.04.2026)
X-WR-TIMEZONE:Europe/Berlin
X-MS-OLK-FORCEINSPECTOROPEN:TRUE
BEGIN:VTIMEZONE
TZID:Europe/Berlin
BEGIN:STANDARD
DTSTART:19701025T030000
TZOFFSETFROM:+0200
TZOFFSETTO:+0100
RRULE:FREQ=YEARLY;BYDAY=-1SU;BYMONTH=10
TZNAME:CET
END:STANDARD
BEGIN:DAYLIGHT
DTSTART:19700329T020000
TZOFFSETFROM:+0100
TZOFFSETTO:+0200
RRULE:FREQ=YEARLY;BYDAY=-1SU;BYMONTH=3
TZNAME:CEST
END:DAYLIGHT
END:VTIMEZONE
BEGIN:VEVENT
UID:20251126T183000-926417@evangelische-termine.de
DTSTAMP:20260419T175536Z
DESCRIPTION:\nKirchenkreis: überregional\nArt der Veranstaltung: Fortbildun
 gen / Seminare / Vorträge\nVeranstaltungsort: online\n- -\nKurzbeschreibun
 g / Untertitel: 3. Thema: Veranstaltungsplanung mit Konzept und guter Öffe
 ntlichkeitsarbeit\nAusführliche Beschreibung: Altbewährte Angebote werden 
 nicht mehr so gut angenommen? \nIhre Veranstaltungspraxis ist nach der Cor
 ona-Zeit nicht mehr so richtig angelaufen?\nIhre Zielgruppe ist weggebroch
 en?\nEin gutes Konzept zur Veranstaltungsplanung hilft dem Bücherei-Team d
 abei\, herauszufinden\, welche Ressourcen vorhanden sind und welche Zielgr
 uppen erreicht werden sollen\, um ggfs. das Angebot anzupassen. Bei der Pl
 anung sollte mitberücksichtigt werden\, an welchem Veranstaltungsangebot d
 ie durchführenden Mitarbeiter/innen selbst auch Freude haben und\, dass de
 r Aufwand für das Team nicht zu groß wird.\nDoch „ohne News – nix los!“ Ih
 re Veranstaltungen werden besser angenommen\, wenn Sie vorher auch kräftig
  die „Werbetrommel gerührt“ haben. Wie das leichter von der Hand geht\, er
 fahren Sie an diesem Abend – auch im ausführlichen Erfahrungsaustausch\nFö
 rderbereich: Abschluss- und schulabschlussbezogene Bildung\nReferent/in: A
 ndrea Minkwitz\nEhrenamtlich leitete sie 7 Jahre die KÖB St. Katharina in 
 Köln-Niehl. Dort ist sie seit über 20 Jahren für die Veranstaltungs- und Ö
 ffentlichkeitsarbeit (inkl. Social media) verantwortlich und probiert imme
 r wieder neue Formate aus.\nAnsprechpartner/in - Leitung: Helena Schäuble
 \nBildungsreferentin im EEB Rheinland-Süd und seit 2010 ehrenamtliche Leit
 ung der EÖB Remagen und mitverantwortlich für die Veranstaltungsarbeit.\nK
 osten: 20\,– €\nZusatzinformationen: Verbindliche Anmeldung über die Homep
 age des EEB Rheinland-Süd\nhttps://eeb-sued.de/\n: 
DTSTART;TZID=Europe/Berlin:20251126T183000
DTEND;TZID=Europe/Berlin:20251126T200000
LOCATION:-: online
SUMMARY:Kleine Veranstaltungen – große Wirkung! :: 3. Thema: Veranstaltungs
 planung mit Konzept und guter Öffentlichkeitsarbeit
URL:https://termine.ekir.de/veranstaltung_im_detail926417.html
END:VEVENT
END:VCALENDAR
