BEGIN:VCALENDAR
VERSION:2.0
PRODID:-//evangelische-termine.de//NONSGML kigkonsult.se iCalcreator 2.18//
CALSCALE:GREGORIAN
METHOD:PUBLISH
X-WR-CALNAME:iCal Evangelische-Termine 19.04.2026
X-WR-CALDESC:iCalender von Evangelische-Termine (19.04.2026)
X-WR-TIMEZONE:Europe/Berlin
X-MS-OLK-FORCEINSPECTOROPEN:TRUE
BEGIN:VTIMEZONE
TZID:Europe/Berlin
BEGIN:STANDARD
DTSTART:19701025T030000
TZOFFSETFROM:+0200
TZOFFSETTO:+0100
RRULE:FREQ=YEARLY;BYDAY=-1SU;BYMONTH=10
TZNAME:CET
END:STANDARD
BEGIN:DAYLIGHT
DTSTART:19700329T020000
TZOFFSETFROM:+0100
TZOFFSETTO:+0200
RRULE:FREQ=YEARLY;BYDAY=-1SU;BYMONTH=3
TZNAME:CEST
END:DAYLIGHT
END:VTIMEZONE
BEGIN:VEVENT
UID:20250601T000000-927404@evangelische-termine.de
DTSTAMP:20260419T193421Z
DESCRIPTION:\nKirchenkreis: überregional\nArt der Veranstaltung: Fortbildun
 gen / Seminare / Vorträge\nVeranstaltungsort: Ev. Erwachsenenbildungswerk 
 Rheinland-Süd e.V.\, Simmern\nHerzog-Reichard-Str. 30\n55469 Simmern\nKurz
 beschreibung / Untertitel: ESF Alphabetisierungs- und Grundbildungskurs - 
 Kurstyp I und II\nInternetadresse (eigene Infos im Internet): https://eeb-
 sued.de/wp-content/uploads/2025/06/ESF-Kurse-2025.pdf\nFörderbereich: Komp
 ensatorische Grundbildung\nAnsprechpartner/in - Leitung: Alexandra Wust
DTSTART;VALUE=DATE:20250601
DTEND;VALUE=DATE:20260101
LOCATION:Simmern: Ev. Erwachsenenbildungswerk Rheinland-Süd e.V.\, Simmern
SUMMARY:Deutsch lesen und schreiben lernen für den Alltag :: Verschiedene K
 urse an verschiedenen Orten
URL:https://termine.ekir.de/veranstaltung_im_detail927404.html
END:VEVENT
END:VCALENDAR
