BEGIN:VCALENDAR
VERSION:2.0
PRODID:-//evangelische-termine.de//NONSGML kigkonsult.se iCalcreator 2.18//
CALSCALE:GREGORIAN
METHOD:PUBLISH
X-WR-CALNAME:iCal Evangelische-Termine 19.04.2026
X-WR-CALDESC:iCalender von Evangelische-Termine (19.04.2026)
X-WR-TIMEZONE:Europe/Berlin
X-MS-OLK-FORCEINSPECTOROPEN:TRUE
BEGIN:VTIMEZONE
TZID:Europe/Berlin
BEGIN:STANDARD
DTSTART:19701025T030000
TZOFFSETFROM:+0200
TZOFFSETTO:+0100
RRULE:FREQ=YEARLY;BYDAY=-1SU;BYMONTH=10
TZNAME:CET
END:STANDARD
BEGIN:DAYLIGHT
DTSTART:19700329T020000
TZOFFSETFROM:+0100
TZOFFSETTO:+0200
RRULE:FREQ=YEARLY;BYDAY=-1SU;BYMONTH=3
TZNAME:CEST
END:DAYLIGHT
END:VTIMEZONE
BEGIN:VEVENT
UID:20221103T100000-930218@evangelische-termine.de
DTSTAMP:20260419T143346Z
DESCRIPTION:\nKirchenkreis: überregional\nArt der Veranstaltung: Fortbildun
 gen / Seminare / Vorträge\nVeranstaltungsort: Hybride Veranstaltung\n Main
 z\nKurzbeschreibung / Untertitel: Wie geht eigentlich… Videoarbeit?\nAusfü
 hrliche Beschreibung: Wie können Präsenzformate und Online-Formate miteina
 nder funktionieren und macht das überhaupt Sinn? Immer mehr Veranstaltunge
 n finden wieder im Präsenzformat statt\, allerdings auch mit Teilnehmenden
 \, die sich kurzfristig online zuschalten möchten oder müssen. Wie nun die
  Planung und Durchführung solcher hybriden Formate gelingen kann\, soll in
  den folgenden Workshops erarbeitet und gezeigt werden. Die Workshopreihe 
 „Wie gehen eigentlich … hybride Veranstaltungsformate?“ läuft seit Mitte d
 es Jahres. Gemeinsam mit externen Referent*innen unterschiedlicher Einrich
 tungen tauschen wir uns aus und lernen\, welche Technik es überhaupt für h
 ybride Formate benötigt\, welche didaktischen Überlegungen vorab notwendig
  sind\, wie man Livestreams auf verschiedenen Kanälen verbreitet und welch
 e Rolle der Datenschutz in diesen Zusammenhängen spielt.\n\nBei diesen Wor
 kshops steht es Ihnen völlig frei sich für alle oder lediglich nur für ein
 zelne Termine anzumelden.\nHINWEIS: Die Anmeldeplätze in Präsenz sind begr
 enzt! Die Adressdaten erhalten Sie mit dem Link einige Tage vor der Verans
 taltung.\n\nThema: Wie geht eigentlich … Videoarbeit?\nReferent*innen: Sev
 erino Ferreira da Silva (Evangelische Arbeitsstelle)\, \nSabine Keller (SW
 R) & Christian Gisinger (ELAG)\nIm Oktober befassen wir uns mit dem Thema 
 der Videoarbeit und damit mit den Fragen \n„Was sind wichtige Planungsschr
 itte für mein Videoprojekt?“\, „Was ist während des Drehs zu beachten?“ un
 d „Was brauche ich für den Videoschnitt?“\nInternetadresse (eigene Infos i
 m Internet): http://www.elag.de\nFörderbereich: Technik\, Technologien\, M
 edien\nReferent/in: Severino Ferreira da Silva \nSabine Keller (SWR)\nAnsp
 rechpartner/in - Leitung: Christian Gisinger (ELAG)\nKosten: keine\nZusatz
 informationen: Anmeldung bis jeweils eine Woche vor dem Termin unter \nhtt
 ps://elag.de/workshopangebot-der-elag-wie-gehen-eigentlich-\nhybride-veran
 staltungsformate/\nAnsprechpartner: Christian Gisinger christian.gisinger@
 elag.de
DTSTART;TZID=Europe/Berlin:20221103T100000
DTEND;TZID=Europe/Berlin:20221103T160000
LOCATION:Mainz: Hybride Veranstaltung
SUMMARY:Wie gehen eigentlich … hybride  Veranstaltungsformate? - Kopie :: W
 ie können Präsenzformate und Online-Formate miteinander funktionieren?
URL:https://termine.ekir.de/veranstaltung_im_detail930218.html
END:VEVENT
END:VCALENDAR
