BEGIN:VCALENDAR
VERSION:2.0
PRODID:-//evangelische-termine.de//NONSGML kigkonsult.se iCalcreator 2.18//
CALSCALE:GREGORIAN
METHOD:PUBLISH
X-WR-CALNAME:iCal Evangelische-Termine 19.04.2026
X-WR-CALDESC:iCalender von Evangelische-Termine (19.04.2026)
X-WR-TIMEZONE:Europe/Berlin
X-MS-OLK-FORCEINSPECTOROPEN:TRUE
BEGIN:VTIMEZONE
TZID:Europe/Berlin
BEGIN:STANDARD
DTSTART:19701025T030000
TZOFFSETFROM:+0200
TZOFFSETTO:+0100
RRULE:FREQ=YEARLY;BYDAY=-1SU;BYMONTH=10
TZNAME:CET
END:STANDARD
BEGIN:DAYLIGHT
DTSTART:19700329T020000
TZOFFSETFROM:+0100
TZOFFSETTO:+0200
RRULE:FREQ=YEARLY;BYDAY=-1SU;BYMONTH=3
TZNAME:CEST
END:DAYLIGHT
END:VTIMEZONE
BEGIN:VEVENT
UID:20250922T150000-930296@evangelische-termine.de
DTSTAMP:20260419T175538Z
DESCRIPTION:\nKirchenkreis: überregional\nArt der Veranstaltung: Fortbildun
 gen / Seminare / Vorträge\nVeranstaltungsort: Haus der Stille\nMelsbacher 
 Hohl 5\n56579 Rengsdorf\nKurzbeschreibung / Untertitel: Weiterbildung in S
 piritueller Resilienz\nAusführliche Beschreibung: Wie lässt sich innere St
 ärke entwickeln\, die im beruflichen wie im privaten Alltag und durch Kris
 enzeiten trägt? Wie erhalte ich mir die innere Freiheit und Selbstwirksamk
 eit trotz äußerer Begrenzungen? Wie verbinden wir Menschen uns mit der Fül
 le\, um in Veränderungen flexibel zu bleiben? In dieser Weiterbildung lern
 en die Teilnehmenden ein Resilienz-Modell kennen\, das neben der Stärkung 
 der eigenen Kraftquellen auch eine leib- und schöpfungsbezogene Spirituali
 tät und damit eine Ressource für seelische Kraft einbezieht. Wir arbeiten 
 als Gruppe prozess- und ressourcenorientiert im perspektivischen Raum von 
 „Glaube\, Hoffnung und Liebe“ (vgl. 1. Kor. 13\,13). Mit spirituellen und 
 wissenschaftlichen Impulsen\, Reflexion allein und in der Gruppe\, Übungen
  zur Körper- und Raumwahrnehmung\, Stillen Zeiten und kreativem Visualisie
 ren vermittelt der Kurs erfahrungsbezogenes Wissen zu Spiritueller Resilie
 nz. Die Teilnehmenden erwerben Kompetenzen für mehr Stressresistenz\, Lebe
 nsqualität und Zufriedenheit im beruflichen und privaten Alltag. Der Kurs 
 richtet sich insbesondere an alle Menschen\, die mit Menschen arbeiten: So
 ziale Berater*innen\, Pfarrer*innen\, Coaches\, Therapeut*innen\, Pädagog*
 innen\, Diakon*innen\, etc.\nInternetadresse (eigene Infos im Internet): h
 ttps://haus-der-stille.ekir.de\nFörderbereich: Lebensgestaltende Bildung\,
  Existenzfragen\, einschließlich der Bereiche der soz. u.. interkulturelle
 n Beziehungen\nReferent/in: Irene Hildenhagen (Pfarrerin\, Leiterin des Ha
 uses der Stille\, GB*\, Exerzitienbegleiterin: Antje Rüttgardt (Pfarrerin\
 , Spiritualin\, Christozentrische Systemikerin\, Biodynamikerin\, Mitglied
  Christliche Arbeitsgemeinschaft Tanz e.V.\nRengsdorf): Berlin)\n\nAnsprec
 hpartner/in - Leitung: Haus der Stille\, Melsbacher Hohl 5\, 56579 Rengsdo
 rf\nKosten: 499\,– €\nZusatzinformationen: Anmeldung per E-Mail an: anmeld
 ung.hds@ekir.de
DTSTART;TZID=Europe/Berlin:20250922T150000
DTEND;TZID=Europe/Berlin:20250926T113000
LOCATION:Rengsdorf: Haus der Stille
SUMMARY:Die Kunst\, aus der Fülle zu leben :: Weiterbildung in Spiritueller
  Resilienz
URL:https://termine.ekir.de/veranstaltung_im_detail930296.html
END:VEVENT
END:VCALENDAR
