BEGIN:VCALENDAR
VERSION:2.0
PRODID:-//evangelische-termine.de//NONSGML kigkonsult.se iCalcreator 2.18//
CALSCALE:GREGORIAN
METHOD:PUBLISH
X-WR-CALNAME:iCal Evangelische-Termine 19.04.2026
X-WR-CALDESC:iCalender von Evangelische-Termine (19.04.2026)
X-WR-TIMEZONE:Europe/Berlin
X-MS-OLK-FORCEINSPECTOROPEN:TRUE
BEGIN:VTIMEZONE
TZID:Europe/Berlin
BEGIN:STANDARD
DTSTART:19701025T030000
TZOFFSETFROM:+0200
TZOFFSETTO:+0100
RRULE:FREQ=YEARLY;BYDAY=-1SU;BYMONTH=10
TZNAME:CET
END:STANDARD
BEGIN:DAYLIGHT
DTSTART:19700329T020000
TZOFFSETFROM:+0100
TZOFFSETTO:+0200
RRULE:FREQ=YEARLY;BYDAY=-1SU;BYMONTH=3
TZNAME:CEST
END:DAYLIGHT
END:VTIMEZONE
BEGIN:VEVENT
UID:20251208T150000-930297@evangelische-termine.de
DTSTAMP:20260419T174024Z
DESCRIPTION:\nKirchenkreis: überregional\nArt der Veranstaltung: Fortbildun
 gen / Seminare / Vorträge\nVeranstaltungsort: Haus der Stille\nMelsbacher 
 Hohl 5\n56579 Rengsdorf\nKurzbeschreibung / Untertitel: Einführung in das 
 Centering Prayer nach Thomas Keating\nAusführliche Beschreibung: Wir richt
 en uns aus auf die ewige Gegenwart jenseits von Worten und Gedanken\, auf 
 das Leben selbst. Wir laden sie ein\, heilsam an uns zu wirken\, und üben\
 , dafür empfänglicher zu werden. Dass sich Herz und Verstand\, dass unser 
 ganzes Sein sich öffnet für Gott\, ist Geschenk: „Kontemplation“. \nDie ei
 nfache Methode des Centering Prayer beruht auf der „Wolke des Nichtwissens
 “\, einer anonymen Anleitung zum kontemplativen Gebet aus dem 14. Jahrhund
 ert\, die Thomas Keating für unsere Zeit weiterentwickelt hat. Im immer ti
 eferen Schweigen des Centering Prayer lösen sich negative Muster\, die wir
  erlernt haben – unser „falsches Selbst“. Es entwickelt sich ein Reservoir
  an innerer Stille\, das hilft\, Frieden in den Alltag zu bringen\, und le
 ichter „mit dem Flow zu gehen“. Lukas verkündet es so (17\,21): „Das Reich
  Gottes ist mitten unter euch – oder: inwendig in euch!“ Mit Übungen für L
 eib und Geist\, Möglichkeit zum Einzelgespräch und Gehen in der Natur.\nIn
 ternetadresse (eigene Infos im Internet): https://haus-der-stille.ekir.de
 \nFörderbereich: Lebensgestaltende Bildung\, Existenzfragen\, einschließli
 ch der Bereiche der soz. u.. interkulturellen Beziehungen\nReferent/in: Ma
 ria Reichel und Gertrud Kieserg\nAnsprechpartner/in - Leitung: Haus der St
 ille\, Melsbacher Hohl 5\, 56579 Rengsdorf\nKosten: 499\,– €\nZusatzinform
 ationen: Anmeldung per E-Mail an: anmeldung.hds@ekir.de
DTSTART;TZID=Europe/Berlin:20251208T150000
DTEND;TZID=Europe/Berlin:20251212T113000
LOCATION:Rengsdorf: Haus der Stille
SUMMARY:Die Stille kosten: ohne Worte beten :: Einführung in das Centering 
 Prayer nach Thomas Keating
URL:https://termine.ekir.de/veranstaltung_im_detail930297.html
END:VEVENT
END:VCALENDAR
