BEGIN:VCALENDAR
VERSION:2.0
PRODID:-//evangelische-termine.de//NONSGML kigkonsult.se iCalcreator 2.18//
CALSCALE:GREGORIAN
METHOD:PUBLISH
X-WR-CALNAME:iCal Evangelische-Termine 19.04.2026
X-WR-CALDESC:iCalender von Evangelische-Termine (19.04.2026)
X-WR-TIMEZONE:Europe/Berlin
X-MS-OLK-FORCEINSPECTOROPEN:TRUE
BEGIN:VTIMEZONE
TZID:Europe/Berlin
BEGIN:STANDARD
DTSTART:19701025T030000
TZOFFSETFROM:+0200
TZOFFSETTO:+0100
RRULE:FREQ=YEARLY;BYDAY=-1SU;BYMONTH=10
TZNAME:CET
END:STANDARD
BEGIN:DAYLIGHT
DTSTART:19700329T020000
TZOFFSETFROM:+0100
TZOFFSETTO:+0200
RRULE:FREQ=YEARLY;BYDAY=-1SU;BYMONTH=3
TZNAME:CEST
END:DAYLIGHT
END:VTIMEZONE
BEGIN:VEVENT
UID:20250925T090000-930460@evangelische-termine.de
DTSTAMP:20260419T174202Z
DESCRIPTION:\nKirchenkreis: überregional\nArt der Veranstaltung: Fortbildun
 gen / Seminare / Vorträge\nVeranstaltungsort: Zentrum für lebenslanges Ler
 nen – Rheinische Gesellschaft für Diakonie gGmbH\nMaiweg 150\n56841 Traben
 -Trarbach/Wolf\nKurzbeschreibung / Untertitel: 2-tägige Weiterbildung zum 
 Systemischen Kinderschutz in der Kinder- und Jugendhilfe und den Hilfen zu
 r Erziehung (HzE)\nAusführliche Beschreibung: Kinder und Jugendliche unser
 er Gesellschaft\, die durch konkrete Lebensumstände in ihrer Entwicklung g
 efährdet sind\, bedürfen den besonderen Schutz unserer staatlichen Gemeins
 chaft. Das Kinder- und Jugendstärkungsgesetz (KJSG) zielt darauf ab\, mit 
 Hilfe frühzeitiger und niedrigschwelliger Unterstützung\, durch mehr Berat
 ung und Beteiligung alle jungen Menschen in ihren Rechten auf Teilhabe\, f
 örderliche Entwicklung und ihren Schutz weiter zu stärken.\nSystemisches W
 issen hilft sowohl bei der Einschätzung als auch bei dem Prozess der Hilfe
 planung und der Erarbeitung passgenauer Schutzkonzepte.\nInternetadresse (
 eigene Infos im Internet): https://www.rg-diakonie.de/aus-und-weiterbildun
 g/unsere-standorte/zentrum-fuer-lebenslanges-lernen\nFörderbereich: Arbeit
 swelt- und berufsbezogene Weiterbildung\nReferent/in: Anke Lingnau-Carduck
 \, \nSyst. Familientherapeutin\, Lehrende für Systemische Beratung und The
 rapie DGSF\nKosten: 680\,– € inkl. Verpflegungspauschale\nZusatzinformatio
 nen: Die Veranstaltung findet im Tagungsraum im \nIda-Becker-Haus\, An der
  Mosel 34\, 56841 Traben-Trarbach statt.\n\nModul 1: 25.-26.09.2025\nModul
  2: 06.-07.11.2025\ntäglich von 9.00-17.00 Uhr\n\nAnmeldung bei Bettina Pi
 lz\, \nPersonalentwicklung/Fort- und Weiterbildung\, \nTel. 06541/7009380\
 , info@zentrum-lebenslanges-lernen.de
DTSTART;TZID=Europe/Berlin:20250925T090000
DTEND;TZID=Europe/Berlin:20250926T170000
LOCATION:Traben-Trarbach/Wolf: Zentrum für lebenslanges Lernen – Rheinische
  Gesellschaft für Diakonie gGmbH
SUMMARY:Systemischer Kinderschutz | Kurz – Kompakt – Konstruktiv (4-tägig) 
 :: 2-tägige Weiterbildung zum Systemischen Kinderschutz in der Kinder- und
  Jugendhilfe und den Hilfen zur Erziehung (HzE)
URL:https://termine.ekir.de/veranstaltung_im_detail930460.html
END:VEVENT
END:VCALENDAR
