BEGIN:VCALENDAR
VERSION:2.0
PRODID:-//evangelische-termine.de//NONSGML kigkonsult.se iCalcreator 2.18//
CALSCALE:GREGORIAN
METHOD:PUBLISH
X-WR-CALNAME:iCal Evangelische-Termine 19.04.2026
X-WR-CALDESC:iCalender von Evangelische-Termine (19.04.2026)
X-WR-TIMEZONE:Europe/Berlin
X-MS-OLK-FORCEINSPECTOROPEN:TRUE
BEGIN:VTIMEZONE
TZID:Europe/Berlin
BEGIN:STANDARD
DTSTART:19701025T030000
TZOFFSETFROM:+0200
TZOFFSETTO:+0100
RRULE:FREQ=YEARLY;BYDAY=-1SU;BYMONTH=10
TZNAME:CET
END:STANDARD
BEGIN:DAYLIGHT
DTSTART:19700329T020000
TZOFFSETFROM:+0100
TZOFFSETTO:+0200
RRULE:FREQ=YEARLY;BYDAY=-1SU;BYMONTH=3
TZNAME:CEST
END:DAYLIGHT
END:VTIMEZONE
BEGIN:VEVENT
UID:20251014T163000-930462@evangelische-termine.de
DTSTAMP:20260419T172837Z
DESCRIPTION:\nKirchenkreis: überregional\nArt der Veranstaltung: Fortbildun
 gen / Seminare / Vorträge\nVeranstaltungsort: online\n- -\nKurzbeschreibun
 g / Untertitel: Kreativ sein mit KI?\nAusführliche Beschreibung: Generativ
 e Künstliche Intelligenz hat sich spätestens seit ChatGPT vom Trend zum al
 ltäglichen Thema auf privater und gesellschaftlicher Ebene entwickelt. KI-
 Anwendungen wie ChatGPT oder Gemini werden mittlerweile im Beruf\, im schu
 lischen Alltag und auch für die private Internetsuche verwendet. Mit gleic
 her Leichtigkeit bieten die Tools allerdings auch neue Möglichkeiten von M
 anipulation oder Fake-News.\n\nDoch wie sieht es mit Kreativität aus? Könn
 en wir mit Hilfe generativer KI kreative Prozesse gestalten? Wie leicht fu
 nktioniert das?\n\nIn unserer Veranstaltung wollen wir uns genau mit diese
 n Fragen befassen. Wir werden Tools wie ChatGPT\, Canva oder Suno näher un
 ter die Lupe nehmen und diskutieren\, wie wir die kreativen Möglichkeiten 
 dieser\, für unsere Formate nutzen können.\nInternetadresse (eigene Infos 
 im Internet): http://www.elag.de\nFörderbereich: Technik\, Technologien\, 
 Medien\nReferent/in: Christian Gisinger\, Bildungreferent für Digitalisier
 ung bei der ELAG\nAnsprechpartner/in - Leitung: Christian Gisinger (ELAG)
 \nKosten: kostenfrei\nZusatzinformationen: Anmeldung bis jeweils eine Woch
 e vor dem Termin unter \nhttps://elag.de/ki-und-kreativitaet/\nAnsprechpar
 tner: Christian Gisinger christian.gisinger@elag.de
DTSTART;TZID=Europe/Berlin:20251014T163000
DTEND;TZID=Europe/Berlin:20251014T180000
LOCATION:-: online
SUMMARY:KI und Kreativität :: Kreativ sein mit KI?
URL:https://termine.ekir.de/veranstaltung_im_detail930462.html
END:VEVENT
END:VCALENDAR
