BEGIN:VCALENDAR
VERSION:2.0
PRODID:-//evangelische-termine.de//NONSGML kigkonsult.se iCalcreator 2.18//
CALSCALE:GREGORIAN
METHOD:PUBLISH
X-WR-CALNAME:iCal Evangelische-Termine 19.04.2026
X-WR-CALDESC:iCalender von Evangelische-Termine (19.04.2026)
X-WR-TIMEZONE:Europe/Berlin
X-MS-OLK-FORCEINSPECTOROPEN:TRUE
BEGIN:VTIMEZONE
TZID:Europe/Berlin
BEGIN:STANDARD
DTSTART:19701025T030000
TZOFFSETFROM:+0200
TZOFFSETTO:+0100
RRULE:FREQ=YEARLY;BYDAY=-1SU;BYMONTH=10
TZNAME:CET
END:STANDARD
BEGIN:DAYLIGHT
DTSTART:19700329T020000
TZOFFSETFROM:+0100
TZOFFSETTO:+0200
RRULE:FREQ=YEARLY;BYDAY=-1SU;BYMONTH=3
TZNAME:CEST
END:DAYLIGHT
END:VTIMEZONE
BEGIN:VEVENT
UID:20251016T163000-930463@evangelische-termine.de
DTSTAMP:20260419T174003Z
DESCRIPTION:\nKirchenkreis: überregional\nArt der Veranstaltung: Fortbildun
 gen / Seminare / Vorträge\nVeranstaltungsort: online\n- -\nKurzbeschreibun
 g / Untertitel: Erarbeiten eines fundierten Gerüsts zur Umsetzung digitale
 r Veranstaltungen.\nAusführliche Beschreibung: Online ist Alltag geworden.
  Wir halten Konferenzen\, Seminare und Tagungen mittlerweile ganz selbstve
 rständlich im digitalen Raum ab. Bei der Planung fragen wir uns aber immer
  noch\, ob wir die uns vertrauten analogen Abläufe 1:1 übertragen können. 
 Oder bieten digitale Veranstaltungen eine Menge neuer Methoden und Möglich
 keiten zur Gestaltung von Lernprozessen?\n\nMit diesen und weiteren Fragen
  wollen wir uns beschäftigen. Christian Gisinger zeigt\, mit welchen Metho
 den und Planungsschritten ein digitales Seminar durchgeführt werden kann. 
 Alle Teile einer „digitalen Musterveranstaltung“ werden zusätzlich auf der
  Metaebene durchleuchtet. Hier sind auch Ihre eigenen Erfahrungen gefragt.
  Ziel ist die Erarbeitung eines fundierten Gerüsts\, das Sie auch für die 
 eigene Veranstaltungsgestaltung einsetzen\, verändern und mit Ihren eigene
 n Inhalten füllen können\nInternetadresse (eigene Infos im Internet): http
 ://www.elag.de\nFörderbereich: Technik\, Technologien\, Medien\nReferent/i
 n: Christian Gisinger\, Bildungreferent für Digitalisierung bei der ELAG\n
 Ansprechpartner/in - Leitung: Christian Gisinger (ELAG)\nKosten: kostenfre
 i\nZusatzinformationen: Anmeldung bis jeweils eine Woche vor dem Termin un
 ter \nhttps://elag.de/wie-geht-eigentlich-eine-digitale-veranstaltung-3/\n
 Ansprechpartner: Christian Gisinger christian.gisinger@elag.de
DTSTART;TZID=Europe/Berlin:20251016T163000
DTEND;TZID=Europe/Berlin:20251016T180000
LOCATION:-: online
SUMMARY:Wie geht eigentlich… eine digitale Veranstaltung? :: Erarbeiten ein
 es fundierten Gerüsts zur Umsetzung digitaler Veranstaltungen.
URL:https://termine.ekir.de/veranstaltung_im_detail930463.html
END:VEVENT
END:VCALENDAR
