BEGIN:VCALENDAR
VERSION:2.0
PRODID:-//evangelische-termine.de//NONSGML kigkonsult.se iCalcreator 2.18//
CALSCALE:GREGORIAN
METHOD:PUBLISH
X-WR-CALNAME:iCal Evangelische-Termine 19.04.2026
X-WR-CALDESC:iCalender von Evangelische-Termine (19.04.2026)
X-WR-TIMEZONE:Europe/Berlin
X-MS-OLK-FORCEINSPECTOROPEN:TRUE
BEGIN:VTIMEZONE
TZID:Europe/Berlin
BEGIN:STANDARD
DTSTART:19701025T030000
TZOFFSETFROM:+0200
TZOFFSETTO:+0100
RRULE:FREQ=YEARLY;BYDAY=-1SU;BYMONTH=10
TZNAME:CET
END:STANDARD
BEGIN:DAYLIGHT
DTSTART:19700329T020000
TZOFFSETFROM:+0100
TZOFFSETTO:+0200
RRULE:FREQ=YEARLY;BYDAY=-1SU;BYMONTH=3
TZNAME:CEST
END:DAYLIGHT
END:VTIMEZONE
BEGIN:VEVENT
UID:20251018T093000-930465@evangelische-termine.de
DTSTAMP:20260419T174136Z
DESCRIPTION:\nKirchenkreis: überregional\nArt der Veranstaltung: Fortbildun
 gen / Seminare / Vorträge\nVeranstaltungsort: Ev. Erwachsenenbildungswerk 
 Rheinland-Süd e.V.\, Simmern\nHerzog-Reichard-Str. 30\n55469 Simmern\nKurz
 beschreibung / Untertitel: Die digitale Welt der Ev. Kirche im Rheinland k
 ennenlernen – das EKiR-Portal\nAusführliche Beschreibung: Als digitale Anb
 indung an die rheinische Landeskirche ist das EKiR-Portal ein großes Werkz
 eug. In der Schulung lernen Sie den Umgang und die Vorteile eines solchen 
 Portals kennen. \n\nBitte eigenen Laptop mitbringen! \nEin Zugang zum EKiR
 -Portal ist Voraussetzung!\nFörderbereich: Ehrenamt\nReferent/in: Sabine L
 iebetrau\nAnsprechpartner/in - Leitung: Carola Schick\nKosten: 80\,– €\nZu
 satzinformationen: Anmeldung bis zum 02.10.2025\n: \nAnsprechpartner: Caro
 la Schick eeb-sued@eeb-sued.de
DTSTART;TZID=Europe/Berlin:20251018T093000
DTEND;TZID=Europe/Berlin:20251018T140000
LOCATION:Simmern: Ev. Erwachsenenbildungswerk Rheinland-Süd e.V.\, Simmern
SUMMARY:Einführung in das EKiR-Portal für Presbyterien und Interessierte ::
  Die digitale Welt der Ev. Kirche im Rheinland kennenlernen – das EKiR-Por
 tal
URL:https://termine.ekir.de/veranstaltung_im_detail930465.html
END:VEVENT
END:VCALENDAR
