BEGIN:VCALENDAR
VERSION:2.0
PRODID:-//evangelische-termine.de//NONSGML kigkonsult.se iCalcreator 2.18//
CALSCALE:GREGORIAN
METHOD:PUBLISH
X-WR-CALNAME:iCal Evangelische-Termine 19.04.2026
X-WR-CALDESC:iCalender von Evangelische-Termine (19.04.2026)
X-WR-TIMEZONE:Europe/Berlin
X-MS-OLK-FORCEINSPECTOROPEN:TRUE
BEGIN:VTIMEZONE
TZID:Europe/Berlin
BEGIN:STANDARD
DTSTART:19701025T030000
TZOFFSETFROM:+0200
TZOFFSETTO:+0100
RRULE:FREQ=YEARLY;BYDAY=-1SU;BYMONTH=10
TZNAME:CET
END:STANDARD
BEGIN:DAYLIGHT
DTSTART:19700329T020000
TZOFFSETFROM:+0100
TZOFFSETTO:+0200
RRULE:FREQ=YEARLY;BYDAY=-1SU;BYMONTH=3
TZNAME:CEST
END:DAYLIGHT
END:VTIMEZONE
BEGIN:VEVENT
UID:20251025T180000-930467@evangelische-termine.de
DTSTAMP:20260419T174202Z
DESCRIPTION:\nKirchenkreis: überregional\nArt der Veranstaltung: Fortbildun
 gen / Seminare / Vorträge\nVeranstaltungsort: Autobahn- und Radwegskirche 
 St. Paul in Wittlich\nArnold-Janssen-Straße 1\n54516 Wittlich\nKurzbeschre
 ibung / Untertitel: Was bedeutet politisches Vertrauen?\nAusführliche Besc
 hreibung: Mit den Stichworten einer „gespaltenen“ bzw. „polarisierten“ Ges
 ellschaft“ oder der Feststellung des Verlustes des Zusammenhalts wird derz
 eit häufig die gesellschaftliche Lage in Deutschland beschrieben. Polarisi
 erungsdiagnosen\, die typischerweise wechselseitiges Misstrauen feststelle
 n\, sind somit inzwischen allseits bekannt.\nWas bedeutet politisches Vert
 rauen? Es bedarf einer differenzierten Klärung des Begriffes\, um das eben
 so spannungsreiche wie ambivalente Verhältnis von Vertrauen und Misstrauen
  zu verstehen\, die Konturen gegenwärtig erodierenden Vertrauens zu erfass
 en und die Signaturen einer politischen Vertrauenskultur zu skizzieren.\nI
 nternetadresse (eigene Infos im Internet): https://autobahnkirche-wittlich
 .mobirisesite.com/Samstagabendgespraeche.html\nFörderbereich: Gesellschaft
 \, Politik und Wirtschaft\nReferent/in: Prof. Dr. Martin Endreß\, Jg. 1960
 \, Professor für Allgemeine Soziologie an der Universität Trier\, arbeitet
  seit vielen Jahren schwerpunktmäßig in der Vertrauensforschung. Er war Sp
 recher der Polizeistudie für das Land Rheinland-Pfalz und Sprecher der DFG
 -Forschungsgruppe „Resilienz“.\nAnsprechpartner/in - Leitung: Förderverein
  Autobahnkirche St. Paul Wittlich e.V.\nDieter Burgard\ninfo@autobahnkirch
 e-stpaul.de\nKosten: kostenfrei\nZusatzinformationen: Anmeldung nicht erfo
 rderlich!\n\nIn Kooperation mit:\nTheologisches Quartett Trier e.V.\nLeser
 initiative Publik-Forum e.V.\nSparkasse Trier\nVolkshochschule der Stadt T
 rier
DTSTART;TZID=Europe/Berlin:20251025T180000
DTEND;TZID=Europe/Berlin:20251025T190000
LOCATION:Wittlich: Autobahn- und Radwegskirche St. Paul in Wittlich
SUMMARY:Erosion politischen Vertrauens? Zu einer Grundvoraussetzung der Dem
 okratie :: Was bedeutet politisches Vertrauen?
URL:https://termine.ekir.de/veranstaltung_im_detail930467.html
END:VEVENT
END:VCALENDAR
