BEGIN:VCALENDAR
VERSION:2.0
PRODID:-//evangelische-termine.de//NONSGML kigkonsult.se iCalcreator 2.18//
CALSCALE:GREGORIAN
METHOD:PUBLISH
X-WR-CALNAME:iCal Evangelische-Termine 19.04.2026
X-WR-CALDESC:iCalender von Evangelische-Termine (19.04.2026)
X-WR-TIMEZONE:Europe/Berlin
X-MS-OLK-FORCEINSPECTOROPEN:TRUE
BEGIN:VTIMEZONE
TZID:Europe/Berlin
BEGIN:STANDARD
DTSTART:19701025T030000
TZOFFSETFROM:+0200
TZOFFSETTO:+0100
RRULE:FREQ=YEARLY;BYDAY=-1SU;BYMONTH=10
TZNAME:CET
END:STANDARD
BEGIN:DAYLIGHT
DTSTART:19700329T020000
TZOFFSETFROM:+0100
TZOFFSETTO:+0200
RRULE:FREQ=YEARLY;BYDAY=-1SU;BYMONTH=3
TZNAME:CEST
END:DAYLIGHT
END:VTIMEZONE
BEGIN:VEVENT
UID:20251123T110000-931323@evangelische-termine.de
DTSTAMP:20260419T175655Z
DESCRIPTION:\nKirchenkreis: überregional\nArt der Veranstaltung: Fortbildun
 gen / Seminare / Vorträge\nVeranstaltungsort: Theologisches Quartett Trier
  e.V.\nDomfreihof 1b\n54290 Trier\nKurzbeschreibung / Untertitel: Gemeinsi
 nn in der westlichen Kultur.\nAusführliche Beschreibung: Der Vortrag hat z
 wei Ziele. Zum einen geht es darum\, dass die Ressource Gemeinsinn in der 
 westlichen Kultur weitgehend übersehen wurde. Als Leitsatz galt die Überze
 ugung: „Das befreite Ich ist der Motor der Moderne“. Die Befreiung des Ich
  war eine wichtige westliche Errungenschaft\, doch zeigen sich inzwischen 
 auch immer deutlicher die Nachteile dieser einseitigen Perspektive. \nZum 
 anderen ermöglicht die Wiederentdeckung des Gemeinsinns Blicke auf andere 
 Traditionen der westlichen Kultur\, die den Menschen nicht mehr als isolie
 rten Einzelkämpfer\, sondern innerhalb seiner sozialen Einbettung als Mitm
 ensch und Beziehungswesen mit Menschenrechten und Menschenpflichten ernst 
 nehmen.\nInternetadresse (eigene Infos im Internet): http://www.tqt-trier.
 de\nFörderbereich: Politische Bildung\nReferent/in: Prof. Dr. Aleida Assma
 nn\, Jg. 1947\, Studium der Anglistik und Ägyptologie\, war Professorin an
  der Universität Konstanz. Sie erhielt viele Auszeichnungen\, u. a. 2018 d
 en Friedenspreis des Deutschen Buchhandels \n(zusammen mit ihrem Ehemann J
 an Assmann\, † 2024).\nAnsprechpartner/in - Leitung: Theologisches Quartet
 t Trier e.V.\,\nReinhold Hoffmann\, Vorstandssprecher\nhoffmann@tqt-trier.
 de\nKosten: 7\,– € (Nichtmitglieder)\, 5\,– € (Mitglieder)\nZusatzinformat
 ionen: Anmeldung nicht erforderlich!\n\nIn Kooperation mit:\nFörderverein 
 Autobahnkirche St. Paul\, Wittlich \nLeserinitiative Publik-Forum e.V.\nSp
 arkasse Trier\nVolkshochschule der Stadt Trier
DTSTART;TZID=Europe/Berlin:20251123T110000
DTEND;TZID=Europe/Berlin:20251123T120000
LOCATION:Trier: Theologisches Quartett Trier e.V.
SUMMARY:Die Kraft des Sozialen. Prägt Gemeinsinn unsere Gesellschaft? :: Ge
 meinsinn in der westlichen Kultur.
URL:https://termine.ekir.de/veranstaltung_im_detail931323.html
END:VEVENT
END:VCALENDAR
