BEGIN:VCALENDAR
VERSION:2.0
PRODID:-//evangelische-termine.de//NONSGML kigkonsult.se iCalcreator 2.18//
CALSCALE:GREGORIAN
METHOD:PUBLISH
X-WR-CALNAME:iCal Evangelische-Termine 19.04.2026
X-WR-CALDESC:iCalender von Evangelische-Termine (19.04.2026)
X-WR-TIMEZONE:Europe/Berlin
X-MS-OLK-FORCEINSPECTOROPEN:TRUE
BEGIN:VTIMEZONE
TZID:Europe/Berlin
BEGIN:STANDARD
DTSTART:19701025T030000
TZOFFSETFROM:+0200
TZOFFSETTO:+0100
RRULE:FREQ=YEARLY;BYDAY=-1SU;BYMONTH=10
TZNAME:CET
END:STANDARD
BEGIN:DAYLIGHT
DTSTART:19700329T020000
TZOFFSETFROM:+0100
TZOFFSETTO:+0200
RRULE:FREQ=YEARLY;BYDAY=-1SU;BYMONTH=3
TZNAME:CEST
END:DAYLIGHT
END:VTIMEZONE
BEGIN:VEVENT
UID:20251213T180000-931324@evangelische-termine.de
DTSTAMP:20260419T175653Z
DESCRIPTION:\nKirchenkreis: überregional\nArt der Veranstaltung: Fortbildun
 gen / Seminare / Vorträge\nVeranstaltungsort: Autobahn- und Radwegskirche 
 St. Paul in Wittlich\nArnold-Janssen-Straße 1\n54516 Wittlich\nKurzbeschre
 ibung / Untertitel: Während viele den Bedeutungsverlust der christlichen K
 irchen beklagen\, wird dies schnell mit einem Verlust von Glauben insgesam
 t gleichgesetzt.\nAusführliche Beschreibung: Während viele den Bedeutungsv
 erlust der christlichen Kirchen beklagen\, wird dies schnell mit einem Ver
 lust von Glauben insgesamt gleichgesetzt. Dabei sind religiöse Bedürfnisse
  ungebrochen vorhanden und zeigen sich anderweitig\, z. B. im weiten Feld 
 von Spiritualität.\nAuch der politische Bereich öffnet sich für religiöse 
 Begriffe. Die Debatte kreist um die Frage\, ob die Kirchen politisch auftr
 eten oder sich eher auf „Gott“ beziehen sollten. Dies übersieht jedoch wes
 entliche Elemente. Betrachtet man nämlich die spirituelle Szene genauer\, 
 so wird darin ein Bedürfnis nach unmittelbarer Erfahrung des Transzendente
 n deutlich. Die direkte Gotteserfahrung artikulierte sich seit dem Mittela
 lter als Mystik und stand stets in einem Spannungsverhältnis zum Dogma. Di
 ese Spannung könnte eine Quelle für die Erneuerung der christlichen Kirche
 n sein.\nInternetadresse (eigene Infos im Internet): https://autobahnkirch
 e-wittlich.mobirisesite.com/Samstagabendgespraeche.html\nFörderbereich: Ge
 sellschaft\, Politik und Wirtschaft\nReferent/in: Prof. Dr. Wolf-Andreas L
 iebert\, Jg. 1959\, ist Professor für Sprachwissenschaft an der Universitä
 t Koblenz. Er hat das Forschungsgebiet der Religionslinguistik begründet u
 nd dazu zahlreiche Publikationen vorgelegt.\nAnsprechpartner/in - Leitung:
  Förderverein Autobahnkirche St. Paul Wittlich e.V.\nDieter Burgard\ninfo@
 autobahnkirche-stpaul.de\nKosten: kostenfrei\nZusatzinformationen: Anmeldu
 ng nicht erforderlich!\n\nIn Kooperation mit:\nTheologisches Quartett Trie
 r e.V.\nLeserinitiative Publik-Forum e.V.\nSparkasse Trier\nVolkshochschul
 e der Stadt Trier
DTSTART;TZID=Europe/Berlin:20251213T180000
DTEND;TZID=Europe/Berlin:20251213T190000
LOCATION:Wittlich: Autobahn- und Radwegskirche St. Paul in Wittlich
SUMMARY:Mystik statt Dogma! – Die Kirchen sollten mehr Mystik wagen. :: Wäh
 rend viele den Bedeutungsverlust der christlichen Kirchen beklagen\, wird 
 dies schnell mit einem Verlust von Glauben insgesamt gleichgesetzt.
URL:https://termine.ekir.de/veranstaltung_im_detail931324.html
END:VEVENT
END:VCALENDAR
