BEGIN:VCALENDAR
VERSION:2.0
PRODID:-//evangelische-termine.de//NONSGML kigkonsult.se iCalcreator 2.18//
CALSCALE:GREGORIAN
METHOD:PUBLISH
X-WR-CALNAME:iCal Evangelische-Termine 19.04.2026
X-WR-CALDESC:iCalender von Evangelische-Termine (19.04.2026)
X-WR-TIMEZONE:Europe/Berlin
X-MS-OLK-FORCEINSPECTOROPEN:TRUE
BEGIN:VTIMEZONE
TZID:Europe/Berlin
BEGIN:STANDARD
DTSTART:19701025T030000
TZOFFSETFROM:+0200
TZOFFSETTO:+0100
RRULE:FREQ=YEARLY;BYDAY=-1SU;BYMONTH=10
TZNAME:CET
END:STANDARD
BEGIN:DAYLIGHT
DTSTART:19700329T020000
TZOFFSETFROM:+0100
TZOFFSETTO:+0200
RRULE:FREQ=YEARLY;BYDAY=-1SU;BYMONTH=3
TZNAME:CEST
END:DAYLIGHT
END:VTIMEZONE
BEGIN:VEVENT
UID:20251214T110000-931325@evangelische-termine.de
DTSTAMP:20260419T175653Z
DESCRIPTION:\nKirchenkreis: überregional\nArt der Veranstaltung: Fortbildun
 gen / Seminare / Vorträge\nVeranstaltungsort: Theologisches Quartett Trier
  e.V.\nDomfreihof 1b\n54290 Trier\nKurzbeschreibung / Untertitel: Während 
 viele den Bedeutungsverlust der christlichen Kirchen beklagen\, wird dies 
 schnell mit einem Verlust von Glauben insgesamt gleichgesetzt.\nAusführlic
 he Beschreibung: Während viele den Bedeutungsverlust der christlichen Kirc
 hen beklagen\, wird dies schnell mit einem Verlust von Glauben insgesamt g
 leichgesetzt. Dabei sind religiöse Bedürfnisse ungebrochen vorhanden und z
 eigen sich anderweitig\, z. B. im weiten Feld von Spiritualität.\nAuch der
  politische Bereich öffnet sich für religiöse Begriffe. Die Debatte kreist
  um die Frage\, ob die Kirchen politisch auftreten oder sich eher auf „Got
 t“ beziehen sollten. Dies übersieht jedoch wesentliche Elemente. Betrachte
 t man nämlich die spirituelle Szene genauer\, so wird darin ein Bedürfnis 
 nach unmittelbarer Erfahrung des Transzendenten deutlich. Die direkte Gott
 eserfahrung artikulierte sich seit dem Mittelalter als Mystik und stand st
 ets in einem Spannungsverhältnis zum Dogma. Diese Spannung könnte eine Que
 lle für die Erneuerung der christlichen Kirchen sein.\nInternetadresse (ei
 gene Infos im Internet): http://www.tqt-trier.de\nFörderbereich: Politisch
 e Bildung\nReferent/in: Prof. Dr. Wolf-Andreas Liebert\, Jg. 1959\, ist Pr
 ofessor für Sprachwissenschaft an der Universität Koblenz. Er hat das Fors
 chungsgebiet der Religionslinguistik begründet und dazu zahlreiche Publika
 tionen vorgelegt.\nAnsprechpartner/in - Leitung: Theologisches Quartett Tr
 ier e.V.\,\nReinhold Hoffmann\, Vorstandssprecher\nhoffmann@tqt-trier.de\n
 Kosten: 7\,– € (Nichtmitglieder)\, 5\,– € (Mitglieder)\nZusatzinformatione
 n: Anmeldung nicht erforderlich!\n\nIn Kooperation mit:\nFörderverein Auto
 bahnkirche St. Paul\, Wittlich \nLeserinitiative Publik-Forum e.V.\nSparka
 sse Trier\nVolkshochschule der Stadt Trier
DTSTART;TZID=Europe/Berlin:20251214T110000
DTEND;TZID=Europe/Berlin:20251214T120000
LOCATION:Trier: Theologisches Quartett Trier e.V.
SUMMARY:Mystik statt Dogma! – Die Kirchen sollten mehr Mystik wagen. :: Wäh
 rend viele den Bedeutungsverlust der christlichen Kirchen beklagen\, wird 
 dies schnell mit einem Verlust von Glauben insgesamt gleichgesetzt.
URL:https://termine.ekir.de/veranstaltung_im_detail931325.html
END:VEVENT
END:VCALENDAR
