BEGIN:VCALENDAR
VERSION:2.0
PRODID:-//evangelische-termine.de//NONSGML kigkonsult.se iCalcreator 2.18//
CALSCALE:GREGORIAN
METHOD:PUBLISH
X-WR-CALNAME:iCal Evangelische-Termine 19.04.2026
X-WR-CALDESC:iCalender von Evangelische-Termine (19.04.2026)
X-WR-TIMEZONE:Europe/Berlin
X-MS-OLK-FORCEINSPECTOROPEN:TRUE
BEGIN:VTIMEZONE
TZID:Europe/Berlin
BEGIN:STANDARD
DTSTART:19701025T030000
TZOFFSETFROM:+0200
TZOFFSETTO:+0100
RRULE:FREQ=YEARLY;BYDAY=-1SU;BYMONTH=10
TZNAME:CET
END:STANDARD
BEGIN:DAYLIGHT
DTSTART:19700329T020000
TZOFFSETFROM:+0100
TZOFFSETTO:+0200
RRULE:FREQ=YEARLY;BYDAY=-1SU;BYMONTH=3
TZNAME:CEST
END:DAYLIGHT
END:VTIMEZONE
BEGIN:VEVENT
UID:20260131T180000-931326@evangelische-termine.de
DTSTAMP:20260419T175652Z
DESCRIPTION:\nKirchenkreis: überregional\nArt der Veranstaltung: Fortbildun
 gen / Seminare / Vorträge\nVeranstaltungsort: Autobahn- und Radwegskirche 
 St. Paul in Wittlich\nArnold-Janssen-Straße 1\n54516 Wittlich\nKurzbeschre
 ibung / Untertitel: Krankenhäuser müssen schließen\, die Bahn ist marode\,
  Kommunen können Schwimmbäder nicht mehr finanzieren...\nAusführliche Besc
 hreibung: Krankenhäuser müssen schließen\, die Bahn ist marode\, Kommunen 
 können Schwimmbäder nicht mehr finanzieren – während die Reichen immer rei
 cher und die Armen immer zahlreicher werden. Wie konnte es dazu kommen in 
 einem reichen Land?\nDas Lob der Steuern ist abhanden gekommen. Doch Steue
 rn sind der Preis für eine zivilisierte Gesellschaft. In den Steuern spieg
 elt sich\, wer das Sagen hat in einer Gesellschaft. Steuern stehen deshalb
  im Zentrum scharfer gesellschaftlicher Auseinandersetzungen.\nDass Steuer
 n gerecht sein sollen\, fordern alle. Doch was genau ist damit gemeint? Au
 ch die Kirchen müssen über Steuern reden\, wenn sie sich für eine solidari
 sche Gesellschaft stark machen wollen. Das fordert die Zachäus-Kampagne\, 
 die vom Ökumenischen Rat der Kirchen und von zahlreichen kirchlichen Organ
 isationen in Deutschland unterstützt wird.\nInternetadresse (eigene Infos 
 im Internet): https://autobahnkirche-wittlich.mobirisesite.com/Samstagaben
 dgespraeche.html\nFörderbereich: Gesellschaft\, Politik und Wirtschaft\nRe
 ferent/in: Prof. Dr. Franz Segbers\, Jg. 1949\, Theologe und Sozialwissens
 chaftler\, war Professor für Sozialethik an der Universität Marburg.\nAnsp
 rechpartner/in - Leitung: Förderverein Autobahnkirche St. Paul Wittlich e.
 V.\nDieter Burgard\ninfo@autobahnkirche-stpaul.de\nKosten: kostenfrei\nZus
 atzinformationen: Anmeldung nicht erforderlich!\n\nIn Kooperation mit:\nTh
 eologisches Quartett Trier e.V.\nLeserinitiative Publik-Forum e.V.\nSparka
 sse Trier\nVolkshochschule der Stadt Trier
DTSTART;TZID=Europe/Berlin:20260131T180000
DTEND;TZID=Europe/Berlin:20260131T190000
LOCATION:Wittlich: Autobahn- und Radwegskirche St. Paul in Wittlich
SUMMARY:Ein Lob der Steuern! Die Zachäus-Kampagne für eine gerechte Steuerp
 olitik. :: Krankenhäuser müssen schließen\, die Bahn ist marode\, Kommunen
  können Schwimmbäder nicht mehr finanzieren...
URL:https://termine.ekir.de/veranstaltung_im_detail931326.html
END:VEVENT
END:VCALENDAR
