BEGIN:VCALENDAR
VERSION:2.0
PRODID:-//evangelische-termine.de//NONSGML kigkonsult.se iCalcreator 2.18//
CALSCALE:GREGORIAN
METHOD:PUBLISH
X-WR-CALNAME:iCal Evangelische-Termine 19.04.2026
X-WR-CALDESC:iCalender von Evangelische-Termine (19.04.2026)
X-WR-TIMEZONE:Europe/Berlin
X-MS-OLK-FORCEINSPECTOROPEN:TRUE
BEGIN:VTIMEZONE
TZID:Europe/Berlin
BEGIN:STANDARD
DTSTART:19701025T030000
TZOFFSETFROM:+0200
TZOFFSETTO:+0100
RRULE:FREQ=YEARLY;BYDAY=-1SU;BYMONTH=10
TZNAME:CET
END:STANDARD
BEGIN:DAYLIGHT
DTSTART:19700329T020000
TZOFFSETFROM:+0100
TZOFFSETTO:+0200
RRULE:FREQ=YEARLY;BYDAY=-1SU;BYMONTH=3
TZNAME:CEST
END:DAYLIGHT
END:VTIMEZONE
BEGIN:VEVENT
UID:20260201T110000-931327@evangelische-termine.de
DTSTAMP:20260419T174502Z
DESCRIPTION:\nKirchenkreis: überregional\nArt der Veranstaltung: Fortbildun
 gen / Seminare / Vorträge\nVeranstaltungsort: Theologisches Quartett Trier
  e.V.\nDomfreihof 1b\n54290 Trier\nKurzbeschreibung / Untertitel: Krankenh
 äuser müssen schließen\, die Bahn ist marode\, Kommunen können Schwimmbäde
 r nicht mehr finanzieren...\nAusführliche Beschreibung: Krankenhäuser müss
 en schließen\, die Bahn ist marode\, Kommunen können Schwimmbäder nicht me
 hr finanzieren – während die Reichen immer reicher und die Armen immer zah
 lreicher werden. Wie konnte es dazu kommen in einem reichen Land?\nDas Lob
  der Steuern ist abhanden gekommen. Doch Steuern sind der Preis für eine z
 ivilisierte Gesellschaft. In den Steuern spiegelt sich\, wer das Sagen hat
  in einer Gesellschaft. Steuern stehen deshalb im Zentrum scharfer gesells
 chaftlicher Auseinandersetzungen.\nDass Steuern gerecht sein sollen\, ford
 ern alle. Doch was genau ist damit gemeint? Auch die Kirchen müssen über S
 teuern reden\, wenn sie sich für eine solidarische Gesellschaft stark mach
 en wollen. Das fordert die Zachäus-Kampagne\, die vom Ökumenischen Rat der
  Kirchen und von zahlreichen kirchlichen Organisationen in Deutschland unt
 erstützt wird.\nInternetadresse (eigene Infos im Internet): http://www.tqt
 -trier.de\nFörderbereich: Politische Bildung\nReferent/in: Prof. Dr. Franz
  Segbers\, Jg. 1949\, Theologe und Sozialwissenschaftler\, war Professor f
 ür Sozialethik an der Universität Marburg.\nAnsprechpartner/in - Leitung: 
 Theologisches Quartett Trier e.V.\,\nReinhold Hoffmann\, Vorstandssprecher
 \nhoffmann@tqt-trier.de\nKosten: 7\,– € (Nichtmitglieder)\, 5\,– € (Mitgli
 eder)\nZusatzinformationen: Anmeldung nicht erforderlich!\n\nIn Kooperatio
 n mit:\nFörderverein Autobahnkirche St. Paul\, Wittlich \nLeserinitiative 
 Publik-Forum e.V.\nSparkasse Trier\nVolkshochschule der Stadt Trier
DTSTART;TZID=Europe/Berlin:20260201T110000
DTEND;TZID=Europe/Berlin:20260201T120000
LOCATION:Trier: Theologisches Quartett Trier e.V.
SUMMARY:Ein Lob der Steuern! Die Zachäus-Kampagne für eine gerechte Steuerp
 olitik. :: Krankenhäuser müssen schließen\, die Bahn ist marode\, Kommunen
  können Schwimmbäder nicht mehr finanzieren...
URL:https://termine.ekir.de/veranstaltung_im_detail931327.html
END:VEVENT
END:VCALENDAR
