BEGIN:VCALENDAR
VERSION:2.0
PRODID:-//evangelische-termine.de//NONSGML kigkonsult.se iCalcreator 2.18//
CALSCALE:GREGORIAN
METHOD:PUBLISH
X-WR-CALNAME:iCal Evangelische-Termine 19.04.2026
X-WR-CALDESC:iCalender von Evangelische-Termine (19.04.2026)
X-WR-TIMEZONE:Europe/Berlin
X-MS-OLK-FORCEINSPECTOROPEN:TRUE
BEGIN:VTIMEZONE
TZID:Europe/Berlin
BEGIN:STANDARD
DTSTART:19701025T030000
TZOFFSETFROM:+0200
TZOFFSETTO:+0100
RRULE:FREQ=YEARLY;BYDAY=-1SU;BYMONTH=10
TZNAME:CET
END:STANDARD
BEGIN:DAYLIGHT
DTSTART:19700329T020000
TZOFFSETFROM:+0100
TZOFFSETTO:+0200
RRULE:FREQ=YEARLY;BYDAY=-1SU;BYMONTH=3
TZNAME:CEST
END:DAYLIGHT
END:VTIMEZONE
BEGIN:VEVENT
UID:20260221T180000-931328@evangelische-termine.de
DTSTAMP:20260419T174320Z
DESCRIPTION:\nKirchenkreis: überregional\nArt der Veranstaltung: Fortbildun
 gen / Seminare / Vorträge\nVeranstaltungsort: Autobahn- und Radwegskirche 
 St. Paul in Wittlich\nArnold-Janssen-Straße 1\n54516 Wittlich\nKurzbeschre
 ibung / Untertitel: Die sogenannte Frauenfrage ist in der katholischen Kir
 che nach wie vor ungelöst\;\nAusführliche Beschreibung: Die sogenannte Fra
 uenfrage ist in der katholischen Kirche nach wie vor ungelöst\; der Zugang
  zu den Weiheämtern wird den Frauen weiterhin verweigert. Ihre Berufungen 
 werden weder geprüft noch anerkannt – und das nur deshalb\, weil sie Fraue
 n sind. Gleichzeitig sind sie diejenigen\, die die Kirche maßgeblich trage
 n und lebendig erhalten. Noch ist nicht abzusehen\, wie Papst Leo sich in 
 der Nachfolge des reformorientierten Papstes Franziskus in der Frauenfrage
  positionieren wird. Die Hoffnungen auf weitere Fortschritte auf dem Weg z
 u einer synodalen und geschlechtergerechten Kirche sind groß. Gleichzeitig
  treten immer mehr Menschen\, vor allem Frauen\, aus der Kirche aus und su
 chen nach neuen Wegen\, ihren Glauben zu leben. Gibt es einen Weg\, diese 
 Spannung aufzulösen?\nInternetadresse (eigene Infos im Internet): https://
 autobahnkirche-wittlich.mobirisesite.com/Samstagabendgespraeche.html\nFörd
 erbereich: Gesellschaft\, Politik und Wirtschaft\nReferent/in: Sr. Philipp
 a Rath\, Jg. 1955\, Studium der Theologie\, Geschichte und Politik\, ist B
 enediktinerin der Abtei St. Hildegard in Rüdesheim-Eibingen\, Mitglied im 
 Synodalen Weg und im Zentralkomitee der Katholiken.\nAnsprechpartner/in - 
 Leitung: Förderverein Autobahnkirche St. Paul Wittlich e.V.\nDieter Burgar
 d\ninfo@autobahnkirche-stpaul.de\nKosten: kostenfrei\nZusatzinformationen:
  Anmeldung nicht erforderlich!\n\nIn Kooperation mit:\nTheologisches Quart
 ett Trier e.V.\nLeserinitiative Publik-Forum e.V.\nSparkasse Trier\nVolksh
 ochschule der Stadt Trier
DTSTART;TZID=Europe/Berlin:20260221T180000
DTEND;TZID=Europe/Berlin:20260221T190000
LOCATION:Wittlich: Autobahn- und Radwegskirche St. Paul in Wittlich
SUMMARY:Frauen ins Amt! Eine (die) Zukunftsfrage der katholischen Kirche. :
 : Die sogenannte Frauenfrage ist in der katholischen Kirche nach wie vor u
 ngelöst\;
URL:https://termine.ekir.de/veranstaltung_im_detail931328.html
END:VEVENT
END:VCALENDAR
