BEGIN:VCALENDAR
VERSION:2.0
PRODID:-//evangelische-termine.de//NONSGML kigkonsult.se iCalcreator 2.18//
CALSCALE:GREGORIAN
METHOD:PUBLISH
X-WR-CALNAME:iCal Evangelische-Termine 19.04.2026
X-WR-CALDESC:iCalender von Evangelische-Termine (19.04.2026)
X-WR-TIMEZONE:Europe/Berlin
X-MS-OLK-FORCEINSPECTOROPEN:TRUE
BEGIN:VTIMEZONE
TZID:Europe/Berlin
BEGIN:STANDARD
DTSTART:19701025T030000
TZOFFSETFROM:+0200
TZOFFSETTO:+0100
RRULE:FREQ=YEARLY;BYDAY=-1SU;BYMONTH=10
TZNAME:CET
END:STANDARD
BEGIN:DAYLIGHT
DTSTART:19700329T020000
TZOFFSETFROM:+0100
TZOFFSETTO:+0200
RRULE:FREQ=YEARLY;BYDAY=-1SU;BYMONTH=3
TZNAME:CEST
END:DAYLIGHT
END:VTIMEZONE
BEGIN:VEVENT
UID:20260222T110000-931329@evangelische-termine.de
DTSTAMP:20260419T174406Z
DESCRIPTION:\nKirchenkreis: überregional\nArt der Veranstaltung: Fortbildun
 gen / Seminare / Vorträge\nVeranstaltungsort: Theologisches Quartett Trier
  e.V.\nDomfreihof 1b\n54290 Trier\nKurzbeschreibung / Untertitel: Die soge
 nannte Frauenfrage ist in der katholischen Kirche nach wie vor ungelöst\;
 \nAusführliche Beschreibung: Die sogenannte Frauenfrage ist in der katholi
 schen Kirche nach wie vor ungelöst\; der Zugang zu den Weiheämtern wird de
 n Frauen weiterhin verweigert. Ihre Berufungen werden weder geprüft noch a
 nerkannt – und das nur deshalb\, weil sie Frauen sind. Gleichzeitig sind s
 ie diejenigen\, die die Kirche maßgeblich tragen und lebendig erhalten. No
 ch ist nicht abzusehen\, wie Papst Leo sich in der Nachfolge des reformori
 entierten Papstes Franziskus in der Frauenfrage positionieren wird. Die Ho
 ffnungen auf weitere Fortschritte auf dem Weg zu einer synodalen und gesch
 lechtergerechten Kirche sind groß. Gleichzeitig treten immer mehr Menschen
 \, vor allem Frauen\, aus der Kirche aus und suchen nach neuen Wegen\, ihr
 en Glauben zu leben. Gibt es einen Weg\, diese Spannung aufzulösen?\nInter
 netadresse (eigene Infos im Internet): http://www.tqt-trier.de\nFörderbere
 ich: Politische Bildung\nReferent/in: Sr. Philippa Rath\, Jg. 1955\, Studi
 um der Theologie\, Geschichte und Politik\, ist Benediktinerin der Abtei S
 t. Hildegard in Rüdesheim-Eibingen\, Mitglied im Synodalen Weg und im Zent
 ralkomitee der Katholiken.\nAnsprechpartner/in - Leitung: Theologisches Qu
 artett Trier e.V.\,\nReinhold Hoffmann\, Vorstandssprecher\nhoffmann@tqt-t
 rier.de\nKosten: 7\,– € (Nichtmitglieder)\, 5\,– € (Mitglieder)\nZusatzinf
 ormationen: Anmeldung nicht erforderlich!\n\nIn Kooperation mit:\nFörderve
 rein Autobahnkirche St. Paul\, Wittlich \nLeserinitiative Publik-Forum e.V
 .\nSparkasse Trier\nVolkshochschule der Stadt Trier
DTSTART;TZID=Europe/Berlin:20260222T110000
DTEND;TZID=Europe/Berlin:20260222T120000
LOCATION:Trier: Theologisches Quartett Trier e.V.
SUMMARY:Frauen ins Amt! Eine (die) Zukunftsfrage der katholischen Kirche. :
 : Die sogenannte Frauenfrage ist in der katholischen Kirche nach wie vor u
 ngelöst\;
URL:https://termine.ekir.de/veranstaltung_im_detail931329.html
END:VEVENT
END:VCALENDAR
