BEGIN:VCALENDAR
VERSION:2.0
PRODID:-//evangelische-termine.de//NONSGML kigkonsult.se iCalcreator 2.18//
CALSCALE:GREGORIAN
METHOD:PUBLISH
X-WR-CALNAME:iCal Evangelische-Termine 19.04.2026
X-WR-CALDESC:iCalender von Evangelische-Termine (19.04.2026)
X-WR-TIMEZONE:Europe/Berlin
X-MS-OLK-FORCEINSPECTOROPEN:TRUE
BEGIN:VTIMEZONE
TZID:Europe/Berlin
BEGIN:STANDARD
DTSTART:19701025T030000
TZOFFSETFROM:+0200
TZOFFSETTO:+0100
RRULE:FREQ=YEARLY;BYDAY=-1SU;BYMONTH=10
TZNAME:CET
END:STANDARD
BEGIN:DAYLIGHT
DTSTART:19700329T020000
TZOFFSETFROM:+0100
TZOFFSETTO:+0200
RRULE:FREQ=YEARLY;BYDAY=-1SU;BYMONTH=3
TZNAME:CEST
END:DAYLIGHT
END:VTIMEZONE
BEGIN:VEVENT
UID:20251203T170000-931338@evangelische-termine.de
DTSTAMP:20260419T174502Z
DESCRIPTION:\nKirchenkreis: überregional\nArt der Veranstaltung: Fortbildun
 gen / Seminare / Vorträge\nVeranstaltungsort: Diakonisches Werk Neuwied\nR
 heinstr. 69\n56564 Neuwied\nKurzbeschreibung / Untertitel: Ein Gruppentrai
 ning für Eltern nach Trennung und Scheidung\nAusführliche Beschreibung: Ei
 ne Trennung oder Scheidung ist für alle\, für Eltern und Kinder\, ein eins
 chneidendes Erlebnis. Wenn sich die Eltern dennoch verständigen können\, i
 st es zwar trotzdem schwer\, aber die wichtigsten Dinge können geklärt und
  die Folgen für die Kinder abgemildert werden. \nManche Trennungen sind ab
 er auch von heftigem Streit begleitet\, die Emotionen kochen hoch\, die Ne
 rven liegen blank und Einigungen im Interesse der Kinder fallen schwer. Be
 i wem bleiben die Kinder\, wie viel Umgang ist gut\, ist die Erziehung noc
 h gewährleistet\, wird mein Kind beeinflusst?  Mit dem Gruppentraining möc
 hten wir Sie in dieser schwierigen Phase begleiten und Ihnen Hilfen an die
  Hand geben\, mit denen Sie die Situation bewältigen und neue Lösungen fin
 den können.  \n\nInhalte des Elterntrainings:\nSie lernen\, aus der Achter
 bahn der Gefühle und den Konflikten auszusteigen\, wieder gut für sich zu 
 sorgen. \nSie entdecken neue Handlungsmöglichkeiten und Lösungswege zur Er
 leichterung der Kommunikation.  \nGemeinsam nehmen wir die Gefühle und Bed
 ürfnisse Ihrer Kinder in den Blick. Erziehungstipps helfen Ihnen\, die Elt
 ernschaft trotz Trennung weiterhin positiv zu gestalten und zu erleben. \n
 \nDie 6 Module des Elterntrainings: \n- Trennung und Chance\n- Konflikte u
 nd Lösungen\n- Mein Kind und die Trennung\n- Eltern bleiben – Teil 1\n- El
 tern bleiben – Teil 2\n- Zukunftsmodell „Arbeitsteam“\n\nAblauf des Eltern
 trainings:\n- es findet in kleinen Gruppen\, mit max. 8 Personen statt\n- 
 es können nicht beide Elternteile gleichzeitig teilnehmen. Wir führen eine
  Warteliste für den nächstfolgenden Kurs\n- die Gruppen finden verbindlich
  an sechs Abenden statt\, \n   jeweils mittwochs von 17.00 Uhr bis 20.00 U
 hr\n- für Kinderbetreuung während der Gruppentermine wird bei Bedarf gesor
 gt\n- mit Gesprächen und Übungen werden Lösungen für schwierige Situatione
 n gemeinsam erarbeitet\n- verschiedene Materialien und ein zu füllender „W
 erkzeugkoffer“ unterstützen Sie dabei\, die erarbeiteten Inhalte im Alltag
  umzusetzen\n- alle Inhalte der Sitzungen sind absolut vertraulich\n- das 
 Angebot ist kostenfrei\nInternetadresse (eigene Infos im Internet): https:
 //www.diakonie-neuwied.de\nFörderbereich: Abschluss- und schulabschlussbez
 ogene Bildung\nReferent/in: Kursleitung:\nSonja Ghabour (M.Sc. Psychologin
 ) Martina Bauer (M.Sc. Psychologin)\nZusatzinformationen: Kurstermine imme
 r mittwochs\, jeweils von 17.00 bis 20.00 Uhr: \n29.10.2025\, 05.11.2025\,
  12.11.2025\, 19.11.2025\, 26.11.2025\, 03.12.2025  \nAnmeldung unter:\nGe
 meinsame Diakonische Werke Rheinland-Süd gGmbH \nRheinstraße 69\, D-56564 
 Neuwied\nTel. 02631/3922-0\, sekretariat.neuwied@diakoniehilft.de\nwww.dia
 konie-neuwied.de
DTSTART;TZID=Europe/Berlin:20251203T170000
DTEND;TZID=Europe/Berlin:20251203T200000
LOCATION:Neuwied: Diakonisches Werk Neuwied
SUMMARY:Trennung meistern – Kinder stärken :: Grupptentraining für Eltern n
 ach Trennung und Scheidung
URL:https://termine.ekir.de/veranstaltung_im_detail931338.html
END:VEVENT
END:VCALENDAR
