BEGIN:VCALENDAR
VERSION:2.0
PRODID:-//evangelische-termine.de//NONSGML kigkonsult.se iCalcreator 2.18//
CALSCALE:GREGORIAN
METHOD:PUBLISH
X-WR-CALNAME:iCal Evangelische-Termine 19.04.2026
X-WR-CALDESC:iCalender von Evangelische-Termine (19.04.2026)
X-WR-TIMEZONE:Europe/Berlin
X-MS-OLK-FORCEINSPECTOROPEN:TRUE
BEGIN:VTIMEZONE
TZID:Europe/Berlin
BEGIN:STANDARD
DTSTART:19701025T030000
TZOFFSETFROM:+0200
TZOFFSETTO:+0100
RRULE:FREQ=YEARLY;BYDAY=-1SU;BYMONTH=10
TZNAME:CET
END:STANDARD
BEGIN:DAYLIGHT
DTSTART:19700329T020000
TZOFFSETFROM:+0100
TZOFFSETTO:+0200
RRULE:FREQ=YEARLY;BYDAY=-1SU;BYMONTH=3
TZNAME:CEST
END:DAYLIGHT
END:VTIMEZONE
BEGIN:VEVENT
UID:20260127T190000-942160@evangelische-termine.de
DTSTAMP:20260419T175601Z
DESCRIPTION:\nKirchenkreis: überregional\nArt der Veranstaltung: Fortbildun
 gen / Seminare / Vorträge\nVeranstaltungsort: online\n- -\nKurzbeschreibun
 g / Untertitel: Anlässlich des Holocaustgedenktags: Ein Blick auf Schuld\,
  Verdrängung und den späten Prozess gegen einen Täter von Auschwitz.\nAusf
 ührliche Beschreibung: Oskar Gröning war der Buchhalter von Auschwitz. Obw
 ohl Gröning von der Ermordung der Menschen wusste\, rechtfertigte er seine
  Arbeit im Konzentrationslager damit\, dass er nicht unmittelbar an den Tö
 tungen beteiligt war. Im letzten großen Auschwitz-Prozess wurde Gröning we
 gen Beihilfe zum Mord an 300.000 Juden verurteilt. Bei der Gerichtsverhand
 lung sind auch Nebenklägerinnen und Nebenkläger anwesend\, Menschen\, die 
 Auschwitz überlebt haben. Eine Nebenklägerin\, Eva Fahidi\, wird in dem Bu
 ch (und auch bei der Lesung) vorgestellt.  Reiner Engelmann hat sich mit L
 ebensstationen Grönings und dem Prozess beschäftigt – ein wichtiger Beitra
 g über eine verführte Jugend\, versäumte Gewissensentscheidungen und ein L
 eben mit Schuld.\n\nGefördert von der Landeszentrale für politische Bildun
 g Rheinland-Pfalz\nFörderbereich: Politische Bildung\nReferent/in: Reiner 
 Engelmann\nAnsprechpartner/in - Leitung: Dr. Marion Krames\nKosten: freiwi
 lliger Beitrag\nZusatzinformationen: Die Anmeldung über die Webseite ist b
 is zum 25.01.2026 möglich.\n: 
DTSTART;TZID=Europe/Berlin:20260127T190000
DTEND;TZID=Europe/Berlin:20260127T203000
LOCATION:-: online
SUMMARY:Der Buchhalter von Auschwitz – Die Schuld des Oskar Gröning :: Anlä
 sslich des Holocaustgedenktags: Ein Blick auf Schuld\, Verdrängung und den
  späten Prozess gegen einen Täter von Auschwitz.
URL:https://termine.ekir.de/veranstaltung_im_detail942160.html
END:VEVENT
END:VCALENDAR
