BEGIN:VCALENDAR
VERSION:2.0
PRODID:-//evangelische-termine.de//NONSGML kigkonsult.se iCalcreator 2.18//
CALSCALE:GREGORIAN
METHOD:PUBLISH
X-WR-CALNAME:iCal Evangelische-Termine 21.04.2026
X-WR-CALDESC:iCalender von Evangelische-Termine (21.04.2026)
X-WR-TIMEZONE:Europe/Berlin
X-MS-OLK-FORCEINSPECTOROPEN:TRUE
BEGIN:VTIMEZONE
TZID:Europe/Berlin
BEGIN:STANDARD
DTSTART:19701025T030000
TZOFFSETFROM:+0200
TZOFFSETTO:+0100
RRULE:FREQ=YEARLY;BYDAY=-1SU;BYMONTH=10
TZNAME:CET
END:STANDARD
BEGIN:DAYLIGHT
DTSTART:19700329T020000
TZOFFSETFROM:+0100
TZOFFSETTO:+0200
RRULE:FREQ=YEARLY;BYDAY=-1SU;BYMONTH=3
TZNAME:CEST
END:DAYLIGHT
END:VTIMEZONE
BEGIN:VEVENT
UID:20260203T173000-942186@evangelische-termine.de
DTSTAMP:20260421T125333Z
DESCRIPTION:\nKirchenkreis: überregional\nArt der Veranstaltung: Fortbildun
 gen / Seminare / Vorträge\nVeranstaltungsort: online\n- -\nKurzbeschreibun
 g / Untertitel: Vom Sofa aus Meisterwerke erleben: Online-Führung zu Wasse
 r- und Seerosenbildern des Impressionismus im Museum Barberini\nAusführlic
 he Beschreibung: Bequem vom eigenen Bildschirm aus tauchen Sie ein in eine
  der bedeutendsten Sammlungen impressionistischer Malerei Europas. In eine
 r Online-Führung durch das Museum Barberini entdecken Sie faszinierende Wa
 sser- und Seerosenbilder von Claude Monet sowie Werke weiterer großer Impr
 essionisten wie Renoir\, Morisot\, Caillebotte und Signac. Die virtuelle T
 our eröffnet spannende Einblicke in die Entwicklung der impressionistische
 n Landschaftsmalerei und bringt Ihnen Meisterwerke näher\, die sonst nur v
 or Ort in Potsdam zu sehen sind.\n\nGefördert von der Lotto-Stiftung Rhein
 land-Pfalz.\nFörderbereich: Sonstiges\nReferent/in: Mitarbeiter/in des Mus
 eums Barberini\nAnsprechpartner/in - Leitung: Dr. Marion Krames\nKosten: 5
 \,- €\nZusatzinformationen: Die Anmeldung über unsere Webseite ist bis ein
 schließlich 02.02.2026 möglich.\n: 
DTSTART;TZID=Europe/Berlin:20260203T173000
DTEND;TZID=Europe/Berlin:20260203T191000
LOCATION:-: online
SUMMARY:Wasser- und Seerosenbilder des Impressionismus :: Vom Sofa aus Meis
 terwerke erleben: Online-Führung zu Wasser- und Seerosenbildern des Impres
 sionismus im Museum Barberini
URL:https://termine.ekir.de/veranstaltung_im_detail942186.html
END:VEVENT
END:VCALENDAR
