BEGIN:VCALENDAR
VERSION:2.0
PRODID:-//evangelische-termine.de//NONSGML kigkonsult.se iCalcreator 2.18//
CALSCALE:GREGORIAN
METHOD:PUBLISH
X-WR-CALNAME:iCal Evangelische-Termine 19.04.2026
X-WR-CALDESC:iCalender von Evangelische-Termine (19.04.2026)
X-WR-TIMEZONE:Europe/Berlin
X-MS-OLK-FORCEINSPECTOROPEN:TRUE
BEGIN:VTIMEZONE
TZID:Europe/Berlin
BEGIN:STANDARD
DTSTART:19701025T030000
TZOFFSETFROM:+0200
TZOFFSETTO:+0100
RRULE:FREQ=YEARLY;BYDAY=-1SU;BYMONTH=10
TZNAME:CET
END:STANDARD
BEGIN:DAYLIGHT
DTSTART:19700329T020000
TZOFFSETFROM:+0100
TZOFFSETTO:+0200
RRULE:FREQ=YEARLY;BYDAY=-1SU;BYMONTH=3
TZNAME:CEST
END:DAYLIGHT
END:VTIMEZONE
BEGIN:VEVENT
UID:20260224T090000-958929@evangelische-termine.de
DTSTAMP:20260419T174406Z
DESCRIPTION:\nKirchenkreis: überregional\nArt der Veranstaltung: Fortbildun
 gen / Seminare / Vorträge\nVeranstaltungsort: Ev. Erwachsenenbildungswerk 
 Rheinland-Süd e.V.\, Simmern\nHerzog-Reichard-Str. 30\n55469 Simmern\nKurz
 beschreibung / Untertitel: Praxisnahe Vermittlung der wichtigsten Rechtsfr
 agen Ihres Berufsalltags.\nAusführliche Beschreibung: Sie arbeiten tagtägl
 ich mit Kindern\, Eltern und Kolleg:innen – dabei begegnen Ihnen immer wie
 der rechtliche Herausforderungen. Wie verhalte ich mich bei Unfällen? Was 
 muss ich im Rahmen der Aufsichtspflicht beachten? Welche Rechte und Pflich
 ten habe ich im Kontakt mit Eltern? Dieses Seminar vermittelt Ihnen praxis
 nah die wichtigsten Rechtsfragen Ihres Berufsalltags – damit Sie sicher\, 
 souverän und rechtlich korrekt agieren können.\nZielgruppe:\n>	Erzieherinne
 n und Erzieher in KiTas  \n>	pädagogische Fachkräfte  \n>	Kita-Leitungen  \n
 Ziele des Seminars:\n>	Grundlegende Rechtskenntnisse erwerben und praxisnah
  anwenden\n>	Sicherheit gewinnen für typische Konflikt- und Problemsituatio
 nen\n>	Handlungsrechtliche Kompetenzen im Umgang mit Kindern\, Eltern und K
 olleg:innen stärken  \n>	Risiken und Haftungsfragen im Berufsalltag erkenne
 n und vermeiden\nInhalte der Fortbildung: \n>	Grundlagen des Kita-Rechts\n>
 	Aufsichtspflicht & Haftungsfragen\n>	Rechte und Pflichten von Eltern und Er
 zieher:innen\n>	Kinderschutz & Kindeswohl\n>	Kinderrechte in der Kita\n>	Arbe
 itsrechtliche Aspekte für Erzieher:innen\n>	Praxisbeispiele & Fallanalysen
 \nMethoden:\nKurzvorträge und praxisnahe Inputs\, Gruppenarbeiten und mode
 rierte Diskussionen\, Rollenspiele zu Eltern- und Konfliktsituationen\, An
 alyse von Fallbeispielen aus dem Kita-Alltag\, Handreichungen\nFörderberei
 ch: Abschluss- und schulabschlussbezogene Bildung\nReferent/in: Annett Här
 tel\nAnsprechpartner/in - Leitung: Carola Schick\nKosten: 85\,– €\nZusatzi
 nformationen: Anmeldung bis 10.02.2026\n: 
DTSTART;TZID=Europe/Berlin:20260224T090000
DTEND;TZID=Europe/Berlin:20260224T163000
LOCATION:Simmern: Ev. Erwachsenenbildungswerk Rheinland-Süd e.V.\, Simmern
SUMMARY:Rechtsfragen für Erzieher*innen –  Handlungssicher im Kita-Alltag :
 : Praxisnahe Vermittlung der wichtigsten Rechtsfragen Ihres Berufsalltags.
URL:https://termine.ekir.de/veranstaltung_im_detail958929.html
END:VEVENT
END:VCALENDAR
