BEGIN:VCALENDAR
VERSION:2.0
PRODID:-//evangelische-termine.de//NONSGML kigkonsult.se iCalcreator 2.18//
CALSCALE:GREGORIAN
METHOD:PUBLISH
X-WR-CALNAME:iCal Evangelische-Termine 23.04.2026
X-WR-CALDESC:iCalender von Evangelische-Termine (23.04.2026)
X-WR-TIMEZONE:Europe/Berlin
X-MS-OLK-FORCEINSPECTOROPEN:TRUE
BEGIN:VTIMEZONE
TZID:Europe/Berlin
BEGIN:STANDARD
DTSTART:19701025T030000
TZOFFSETFROM:+0200
TZOFFSETTO:+0100
RRULE:FREQ=YEARLY;BYDAY=-1SU;BYMONTH=10
TZNAME:CET
END:STANDARD
BEGIN:DAYLIGHT
DTSTART:19700329T020000
TZOFFSETFROM:+0100
TZOFFSETTO:+0200
RRULE:FREQ=YEARLY;BYDAY=-1SU;BYMONTH=3
TZNAME:CEST
END:DAYLIGHT
END:VTIMEZONE
BEGIN:VEVENT
UID:20260121T130000-988859@evangelische-termine.de
DTSTAMP:20260423T105607Z
DESCRIPTION:\nKirchenkreis: An Nahe und Glan\nArt der Veranstaltung: Fortbi
 ldungen / Seminare / Vorträge\nVeranstaltungsort: Ev. Gemeindehaus Hennwei
 ler\nOberhauser Str. 2\n55619 Hennweiler\nKurzbeschreibung / Untertitel: S
 tudientag zum Weltgebetstag 2026 in Hennweiler\nAusführliche Beschreibung:
  Welch eine vertrauensvolle Einladung zum Weltgebetstag 2026 wird hier von
  Christinnen in Nigeria ausgesprochen. Kommt bringt eure Last\, oder wie d
 ie österreichischen Frauen einladen: Kommt-Lasst euch stärken\, beides ein
 e Kurzfassung des bekannten Bibelwortes Jesu“ Kommt her zu mir\, alle\, di
 e ihr mühselig und beladen seid\; ich will euch erquicken“(Mt 11\,28). Die
  Einladung gilt uns allen im Vertrauen auf Jesus Christus. Nigeria ist ein
  Land der Superlative mit vielen Kulturen\, Sprachen und Religionen\, aber
  auch mit Spannungen und blutigen\, regionalen Konflikten. Mit 230 Million
 en Einwohnern ist das westafrikanische Land nicht nur das bevölkerungsreic
 hste\, sondern auch die größte Volkswirtschaft des Kontinents. Reich geseg
 net mit Naturschätzen wie Öl\, Erdgas und Gold\, steht Nigeria dennoch vor
  enormen Herausforderungen: Eine Inflationsrate von 30%\, explodierende Pr
 eise für Nahrungsmittel und Alltagsgüter\, sowie eine Wirtschaft\, die von
  wenigen kontrolliert wird\, während die Mehrheit der Bevölkerung in Armut
  lebt. Nigeria hat eine der jüngsten Bevölkerungen weltweit\, aber die Per
 spektiven für junge Leute sind düster. Etliche suchen den Weg nach Europa\
 , andere schließen sich gewalttätigen Banden an. Manche allerdings finden 
 tatsächlich ihr Glück in der boomenden Musik- und Filmindustrie Nigerias e
 twa\, Stichwort :„Afrobeat“ und „Nollywood“- Traumwelten mit Aufstiegschan
 cen. \nWir freuen uns im Gottesdienst am 06.März um 18.00 Uhr in der Ev. K
 irche in Hennweiler mit Ihnen gemeinsam darüber nachzudenken\, wie es ist\
 , die eigene Lebenslast abgeben zu können\, eine Anlaufstelle für Probleme
  und Fragen zu haben\, Hoffnung gegen Hoffnungslosigkeit zu erfahren.  Im 
 Anschluss an den Gottesdienst laden wir- wie jedes Jahr - zu einer kleinen
  Nachfeier ins Ev. Gemeindehaus ein. Wer sich im Vorfeld über das Land\, d
 ie Menschen und deren Kultur und Geschichte \, sowie die Gottesdiensttexte
  informieren will\, ist zu einem Studientag am 21. Jan.2026 13 – 17 Uhr  i
 m Ev. Gemeindehaus Hennweiler eingeladen.\nFörderbereich: Internationales\
 , Völkerverständigung\, Multikulturelle Gesellschaft\nReferent/in: Andrea 
 Effelsberg\, Evangelische Frauenhilfe im Rheinland.\nAnsprechpartner/in - 
 Leitung: Irène Deveaux\nKosten: kostenfrei\nZusatzinformationen: Anmeldung
  an Irène Deveaux Tel. 06752 2100\, \ni.deveaux@gmx.de
DTSTART;TZID=Europe/Berlin:20260121T130000
DTEND;TZID=Europe/Berlin:20260121T170000
LOCATION:Hennweiler: Ev. Gemeindehaus Hennweiler
SUMMARY:Kommt! Bringt eure Last :: Studientag zum Weltgebetstag 2026 in Hen
 nweiler
URL:https://termine.ekir.de/veranstaltung_im_detail988859.html
END:VEVENT
END:VCALENDAR
