BEGIN:VCALENDAR
VERSION:2.0
PRODID:-//evangelische-termine.de//NONSGML kigkonsult.se iCalcreator 2.18//
CALSCALE:GREGORIAN
METHOD:PUBLISH
X-WR-CALNAME:iCal Evangelische-Termine 19.04.2026
X-WR-CALDESC:iCalender von Evangelische-Termine (19.04.2026)
X-WR-TIMEZONE:Europe/Berlin
X-MS-OLK-FORCEINSPECTOROPEN:TRUE
BEGIN:VTIMEZONE
TZID:Europe/Berlin
BEGIN:STANDARD
DTSTART:19701025T030000
TZOFFSETFROM:+0200
TZOFFSETTO:+0100
RRULE:FREQ=YEARLY;BYDAY=-1SU;BYMONTH=10
TZNAME:CET
END:STANDARD
BEGIN:DAYLIGHT
DTSTART:19700329T020000
TZOFFSETFROM:+0100
TZOFFSETTO:+0200
RRULE:FREQ=YEARLY;BYDAY=-1SU;BYMONTH=3
TZNAME:CEST
END:DAYLIGHT
END:VTIMEZONE
BEGIN:VEVENT
UID:20260124T100000-988860@evangelische-termine.de
DTSTAMP:20260419T175601Z
DESCRIPTION:\nKirchenkreis: überregional\nArt der Veranstaltung: Fortbildun
 gen / Seminare / Vorträge\nVeranstaltungsort: Ev. Erwachsenenbildungswerk 
 Rheinland-Süd e.V.\, Simmern\nHerzog-Reichard-Str. 30\n55469 Simmern\nKurz
 beschreibung / Untertitel: Kreative Techniken zum Kennenlernen und Ausprob
 ieren\nAusführliche Beschreibung: Ob zarte Muster\, farbenfrohe Mandalas\,
  inspirierende Botschaften oder kleine Figuren – bemalte Steine bieten unz
 ählige Möglichkeiten\, die eigene Kreativität auszuleben und gleichzeitig 
 Ruhe und Entspannung zu finden. Gestaltungtechniken kennenlernen und einst
 eigen in die eigene Kreativität.\nFörderbereich: Sonstiges\nReferent/in: C
 arola Schäfer\nAnsprechpartner/in - Leitung: Carola Schick\nKosten: 40\,– 
 € zzgl. 20\,– € Material\nZusatzinformationen: Anmeldung bis 12.01.2026\n:
  \nAnsprechpartner: Carola Schick eeb-sued@eeb-sued.de
DTSTART;TZID=Europe/Berlin:20260124T100000
DTEND;TZID=Europe/Berlin:20260124T160000
LOCATION:Simmern: Ev. Erwachsenenbildungswerk Rheinland-Süd e.V.\, Simmern
SUMMARY:Kreativwerkstatt – Steine bemalen– Steine werden zu kleinen Kunstwe
 rken! :: Kreative Techniken zum Kennenlernen und Ausprobieren
URL:https://termine.ekir.de/veranstaltung_im_detail988860.html
END:VEVENT
END:VCALENDAR
