BEGIN:VCALENDAR
VERSION:2.0
PRODID:-//evangelische-termine.de//NONSGML kigkonsult.se iCalcreator 2.18//
CALSCALE:GREGORIAN
METHOD:PUBLISH
X-WR-CALNAME:iCal Evangelische-Termine 19.04.2026
X-WR-CALDESC:iCalender von Evangelische-Termine (19.04.2026)
X-WR-TIMEZONE:Europe/Berlin
X-MS-OLK-FORCEINSPECTOROPEN:TRUE
BEGIN:VTIMEZONE
TZID:Europe/Berlin
BEGIN:STANDARD
DTSTART:19701025T030000
TZOFFSETFROM:+0200
TZOFFSETTO:+0100
RRULE:FREQ=YEARLY;BYDAY=-1SU;BYMONTH=10
TZNAME:CET
END:STANDARD
BEGIN:DAYLIGHT
DTSTART:19700329T020000
TZOFFSETFROM:+0100
TZOFFSETTO:+0200
RRULE:FREQ=YEARLY;BYDAY=-1SU;BYMONTH=3
TZNAME:CEST
END:DAYLIGHT
END:VTIMEZONE
BEGIN:VEVENT
UID:20260131T140000-988861@evangelische-termine.de
DTSTAMP:20260419T175728Z
DESCRIPTION:\nKirchenkreis: überregional\nArt der Veranstaltung: Fortbildun
 gen / Seminare / Vorträge\nVeranstaltungsort: Ev. Gemeindezentrum Winninge
 n\nKirchstraße 5\n56333 Winningen\nKurzbeschreibung / Untertitel: Kreative
 s Schreiben unter dem Thema: Jeder Anfang ein Wagnis\nAusführliche Beschre
 ibung: Jeder Anfang ein Wagnis – den Mutmoment nutzen – den ersten Schritt
  – Neuland \nbetreten – gemeinsam schreiben zum Jahresbeginn. Keine Vorken
 ntnisse erforderlich!\nFörderbereich: Technik\, Kulturtechniken\nReferent/
 in: Susanne Barth\nAnsprechpartner/in - Leitung: Susanne Barth\nKosten: 69
 \,– € zzgl. eines kleinen kulinarischen Beitrags zum Kaffee-Büffet\nZusatz
 informationen: Anmeldung an Ev. Kirchengemeinde Winningen\, Tel. 02606 344
 \, winningen@ekir.de
DTSTART;TZID=Europe/Berlin:20260131T140000
DTEND;TZID=Europe/Berlin:20260131T190000
LOCATION:Winningen: Ev. Gemeindezentrum Winningen
SUMMARY:Schreibworkshop für Frauen: Nicht aufhören anzufangen :: Kreatives 
 Schreiben unter dem Thema: Jeder Anfang ein Wagnis 
URL:https://termine.ekir.de/veranstaltung_im_detail988861.html
END:VEVENT
END:VCALENDAR
