BEGIN:VCALENDAR
VERSION:2.0
PRODID:-//evangelische-termine.de//NONSGML kigkonsult.se iCalcreator 2.18//
CALSCALE:GREGORIAN
METHOD:PUBLISH
X-WR-CALNAME:iCal Evangelische-Termine 19.04.2026
X-WR-CALDESC:iCalender von Evangelische-Termine (19.04.2026)
X-WR-TIMEZONE:Europe/Berlin
X-MS-OLK-FORCEINSPECTOROPEN:TRUE
BEGIN:VTIMEZONE
TZID:Europe/Berlin
BEGIN:STANDARD
DTSTART:19701025T030000
TZOFFSETFROM:+0200
TZOFFSETTO:+0100
RRULE:FREQ=YEARLY;BYDAY=-1SU;BYMONTH=10
TZNAME:CET
END:STANDARD
BEGIN:DAYLIGHT
DTSTART:19700329T020000
TZOFFSETFROM:+0100
TZOFFSETTO:+0200
RRULE:FREQ=YEARLY;BYDAY=-1SU;BYMONTH=3
TZNAME:CEST
END:DAYLIGHT
END:VTIMEZONE
BEGIN:VEVENT
UID:20260126T120000-988864@evangelische-termine.de
DTSTAMP:20260419T174351Z
DESCRIPTION:\nKirchenkreis: überregional\nArt der Veranstaltung: Fortbildun
 gen / Seminare / Vorträge\nVeranstaltungsort: Haus der Stille\nMelsbacher 
 Hohl 5\n56579 Rengsdorf\nKurzbeschreibung / Untertitel: Damit wir uns in E
 inheit finden und im Göttlichen erfahren!\nAusführliche Beschreibung: Der 
 Kurs spricht jede*n in seiner*ihrer Ganzheit an: Er ermöglicht das Wahrneh
 men dieser Einheit\, um in eine tiefere Bewusst-Seins-Ebene und Verbindung
  mit sich und der göttlichen Geistkraft zu kommen. Durch Übungen zur Körpe
 rwahrnehmung erleben Teilnehmende ihre natürlich gegebene schöpferische In
 telligenz und lernen die damit verbundenen Ressourcen kennen. Sie kommen i
 n Kontakt mit ihrem Lebensatem und erfahren seine nährende Lebenskraft. Di
 ese Quelle des Heils ist immer wach in uns Menschen\, wenn unser Atem frei
  fließt. Durch leichte Anweisungen erfahren die Teilnehmenden sich selbst 
 als Klanginstrument und lernen die Verbindung zu Energiezentren (Vokalräum
 en) kennen. Sie erleben ihre eigenen\, heilenden Töne in der Bewegung des 
 Atems und finden auf entspannte Weise ihre natürliche\, freie Stimme. Phas
 en der Stille ermöglichen die Wahrnehmung der Verbundenheit von Atem\, Lei
 b und Seele. So können sich alle sicher\, geerdet und frei im eigenen offe
 nen Raum spüren – ermutigt\, das Herz zu öffnen. Keine Vorerfahrung nötig:
  Der Kurs ist geeignet für alle\, die ihre Stimme und damit ihr Ureigenste
 s stärken wollen.\nFörderbereich: Lebensgestaltende Bildung\, Existenzfrag
 en\, einschließlich der Bereiche der soz. u.. interkulturellen Beziehungen
 \nReferent/in: Agnes Erkens\, Martina Patenge\nAnsprechpartner/in - Leitun
 g: Agnes Erkens\, Martina Patenge\nKosten: 499\,– €\nZusatzinformationen: 
 Anmeldeschluss: 12.01.2026\nAnmeldungen an: anmeldung.hds@ekir.de
DTSTART;TZID=Europe/Berlin:20260126T120000
DTEND;TZID=Europe/Berlin:20260130T150000
LOCATION:Rengsdorf: Haus der Stille
SUMMARY:Mit Körper\, Atem\, Stimme auf dem Weg zum Selbst :: Damit wir uns 
 in Einheit finden und im Göttlichen erfahren!
URL:https://termine.ekir.de/veranstaltung_im_detail988864.html
END:VEVENT
END:VCALENDAR
