BEGIN:VCALENDAR
VERSION:2.0
PRODID:-//evangelische-termine.de//NONSGML kigkonsult.se iCalcreator 2.18//
CALSCALE:GREGORIAN
METHOD:PUBLISH
X-WR-CALNAME:iCal Evangelische-Termine 19.04.2026
X-WR-CALDESC:iCalender von Evangelische-Termine (19.04.2026)
X-WR-TIMEZONE:Europe/Berlin
X-MS-OLK-FORCEINSPECTOROPEN:TRUE
BEGIN:VTIMEZONE
TZID:Europe/Berlin
BEGIN:STANDARD
DTSTART:19701025T030000
TZOFFSETFROM:+0200
TZOFFSETTO:+0100
RRULE:FREQ=YEARLY;BYDAY=-1SU;BYMONTH=10
TZNAME:CET
END:STANDARD
BEGIN:DAYLIGHT
DTSTART:19700329T020000
TZOFFSETFROM:+0100
TZOFFSETTO:+0200
RRULE:FREQ=YEARLY;BYDAY=-1SU;BYMONTH=3
TZNAME:CEST
END:DAYLIGHT
END:VTIMEZONE
BEGIN:VEVENT
UID:20260223T090000-992303@evangelische-termine.de
DTSTAMP:20260419T173011Z
DESCRIPTION:\nKirchenkreis: überregional\nArt der Veranstaltung: Fortbildun
 gen / Seminare / Vorträge\nVeranstaltungsort: Ida-Becker-Haus\, Tagungsrau
 m\nAn der Mosel 34\n56841 Traben-Trarbach\nKurzbeschreibung / Untertitel: 
 7-tägige Weiterbildung zur Praxisanleitung für pädagogische Fachkräfte aus
  Bereichen der Hilfen zur Erziehung\nAusführliche Beschreibung: Für pädago
 gische Fachkräfte\, die in Rheinland-Pfalz angehende anerkannte Erzieher*i
 nnen im Rahmen der Kurzpraktika\, Berufspraktikant*innen und angehende Hei
 lerziehungspfleger*innen anleiten\, ist seit dem 01.08.2009 die Zusatzqual
 ifikation „Praxisanleitung“ verbindlich festgeschrieben. Die Aufgabe des T
 rägers der Einrichtung ist es\, dafür zu sorgen\, dass in jeder Einrichtun
 g eine nach der trägerübergreifenden Rahmenvereinbarung zur Praxisanleitun
 g in Rheinland-Pfalz qualifizierte Kraft für die Anleitung zur Verfügung s
 teht. In dieser Fortbildung werden Sie für die neue Aufgabe qualifiziert. 
 Die Inhalte orientieren sich an der \n„trägerübergreifenden Rahmenvereinba
 rung zur Praxisanleitung in Rheinland-Pfalz“ vom 15.08.2022.\nVeranstaltun
 gstermine:\nTag 1: 23.02.26 Präsenz\, Tag 2: 24.02.26 Online\,\nTag 3: 25.
 02.26 Präsenz\, Tag 4: 23.03.26 Präsenz\,\nTag 5: 24.03.26 Präsenz\, Tag 6
 : 25.03.26 Online\, Tag 7: 27.03.26 Präsenz\nPräsenz von 9.00 - 16.30 Uhr\
 , Online von 9.00 - 16.00 Uhr\nInternetadresse (eigene Infos im Internet):
  https://www.rg-diakonie.de/aus-und-weiterbildung/unsere-standorte/zentrum
 -fuer-lebenslanges-lernen\nFörderbereich: Arbeitswelt- und berufsbezogene 
 Weiterbildung\nReferent/in: Elisabeth Portz-Schmitt\nMonika Linden\nAnspre
 chpartner/in - Leitung: Rheinische Gesellschaft für Diakonie gGmbH\nBettin
 a Pilz\, Personalentwicklung/Fort- und\nWeiterbildung\, Tel. 06541/7009380
 \nZentrum für lebenslanges Lernen\nMaiweg 150\, 56841 Traben-Trarbach\nKos
 ten: 920\,– € incl. 4x Verpflegungspauschale (1 Tag Selbstverpflegung in d
 er Gruppe)\nZusatzinformationen: Weiterbildung\, Tel. 06541: Anmeldung an 
 Bettina Pilz\, Personalentwicklung\n7009380\, info@zentrum-lebenslanges-le
 rnen.de: Fort- und\n
DTSTART;TZID=Europe/Berlin:20260223T090000
DTEND;TZID=Europe/Berlin:20260327T160000
LOCATION:Traben-Trarbach: Ida-Becker-Haus\, Tagungsraum
SUMMARY:„Praxisanleitung 2026“ :: 7-tägige Weiterbildung zur Praxisanleitun
 g für pädagogische Fachkräfte aus Bereichen der Hilfen zur Erziehung
URL:https://termine.ekir.de/veranstaltung_im_detail992303.html
END:VEVENT
END:VCALENDAR
