BEGIN:VCALENDAR
VERSION:2.0
PRODID:-//evangelische-termine.de//NONSGML kigkonsult.se iCalcreator 2.18//
CALSCALE:GREGORIAN
METHOD:PUBLISH
X-WR-CALNAME:iCal Evangelische-Termine 19.04.2026
X-WR-CALDESC:iCalender von Evangelische-Termine (19.04.2026)
X-WR-TIMEZONE:Europe/Berlin
X-MS-OLK-FORCEINSPECTOROPEN:TRUE
BEGIN:VTIMEZONE
TZID:Europe/Berlin
BEGIN:STANDARD
DTSTART:19701025T030000
TZOFFSETFROM:+0200
TZOFFSETTO:+0100
RRULE:FREQ=YEARLY;BYDAY=-1SU;BYMONTH=10
TZNAME:CET
END:STANDARD
BEGIN:DAYLIGHT
DTSTART:19700329T020000
TZOFFSETFROM:+0100
TZOFFSETTO:+0200
RRULE:FREQ=YEARLY;BYDAY=-1SU;BYMONTH=3
TZNAME:CEST
END:DAYLIGHT
END:VTIMEZONE
BEGIN:VEVENT
UID:20260313T093000-992562@evangelische-termine.de
DTSTAMP:20260419T173137Z
DESCRIPTION:\nKirchenkreis: überregional\nArt der Veranstaltung: Fortbildun
 gen / Seminare / Vorträge\nVeranstaltungsort: Ateliergemeinschaft Leske – 
 Höft – Winter – Miczka\; Bad Kreuznach\nHüffelsheimer Str. 5 (Hinterhof ne
 ben PUK)\n55545 Bad Kreuznach\nKurzbeschreibung / Untertitel: Aus kleinen 
 Einzelteilen ein individuelles Kunstwerk gestalten und neue Energie und Im
 pulse finden.\nAusführliche Beschreibung: Aus kleinen bunten Einzelteilen 
 ein einzigartiges Kunstwerk schaffen – und dabei neue Energie tanken.\nIn 
 diesem inspirierenden Kreativ-Workshop gestalten die Teilnehmenden aus far
 benfrohen Materialien ihr eigenes individuelles Kunstwerk. Dabei steht nic
 ht nur das kreative Schaffen im Mittelpunkt\, sondern auch das bewusste ha
 ndwerkliche Tun als Lern- und Erfahrungsraum.\nDurch verschiedene gestalte
 rische Methoden erwerben die Teilnehmenden grundlegende Kenntnisse im Umga
 ng mit Materialien und Werkzeugen\, fördern ihre Feinmotorik und schulen i
 hre Wahrnehmung für Form\, Farbe und Struktur. Gleichzeitig regt der kreat
 ive Prozess dazu an\, eigene Ideen weiterzuentwickeln\, Entscheidungen zu 
 treffen und neue Ausdrucksformen auszuprobieren.\nDie handwerkliche Tätigk
 eit wirkt zudem entschleunigend\, stärkt das Körperbewusstsein und unterst
 ützt dabei\, neue Energie und frische Impulse für den Alltag zu gewinnen. 
 Reflexionsphasen bieten die Möglichkeit\, das eigene Tun zu betrachten und
  Lernerfahrungen bewusst wahrzunehmen.\nEin Angebot für alle Erwachsenen\,
  die sich ausprobieren möchten\, ihre gestalterischen Fähigkeiten erweiter
 n wollen und Lust haben\, in einer angenehmen Atmosphäre kreativ und handw
 erklich tätig zu sein.\nFörderbereich: Technik\, Kulturtechniken\nReferent
 /in: Michael Winter\, Erzieher und Mosaikkünstler\nAnsprechpartner/in - Le
 itung: Carola Schick\nKosten: 160\,– € zzgl. Material ohne Verpflegung und
  Übernachtung\nZusatzinformationen: Anmeldung bis zum 13.02.2026\n: 
DTSTART;TZID=Europe/Berlin:20260313T093000
DTEND;TZID=Europe/Berlin:20260314T170000
LOCATION:Bad Kreuznach: Ateliergemeinschaft Leske – Höft – Winter – Miczka\
 ; Bad Kreuznach
SUMMARY:Kreativ-Workshop: Jetzt wird´s bunt! Mit Mosaik gestalten! (2-tägig
 er Workshop) :: Aus kleinen Einzelteilen ein individuelles Kunstwerk gesta
 lten und neue Energie und Impulse finden.
URL:https://termine.ekir.de/veranstaltung_im_detail992562.html
END:VEVENT
END:VCALENDAR
