BEGIN:VCALENDAR
VERSION:2.0
PRODID:-//evangelische-termine.de//NONSGML kigkonsult.se iCalcreator 2.18//
CALSCALE:GREGORIAN
METHOD:PUBLISH
X-WR-CALNAME:iCal Evangelische-Termine 25.04.2026
X-WR-CALDESC:iCalender von Evangelische-Termine (25.04.2026)
X-WR-TIMEZONE:Europe/Berlin
X-MS-OLK-FORCEINSPECTOROPEN:TRUE
BEGIN:VTIMEZONE
TZID:Europe/Berlin
BEGIN:STANDARD
DTSTART:19701025T030000
TZOFFSETFROM:+0200
TZOFFSETTO:+0100
RRULE:FREQ=YEARLY;BYDAY=-1SU;BYMONTH=10
TZNAME:CET
END:STANDARD
BEGIN:DAYLIGHT
DTSTART:19700329T020000
TZOFFSETFROM:+0100
TZOFFSETTO:+0200
RRULE:FREQ=YEARLY;BYDAY=-1SU;BYMONTH=3
TZNAME:CEST
END:DAYLIGHT
END:VTIMEZONE
BEGIN:VEVENT
UID:20260323T133000-994990@evangelische-termine.de
DTSTAMP:20260425T130220Z
DESCRIPTION:\nOrt: Haus der Ev. Kirche Bonn\nAdenauerallee 37\n53113 Bonn\n
 Beschreibung: Für alle Schulformen\nArt der Veranstaltung: Fortbildungen /
  Seminare / Vorträge\nInternetadresse (eigene Infos im Internet): https://
 www.reli-bonn.de\nEmail: info@schulreferatbonn.de\nAnsprechpartner: Hiltru
 d Stärk-Lemaire hiltrud.staerk-lemaire@ekir.de\nWeitere Informationen: God
 ly Play ist ein religionspädagogischer Ansatz\, in dessen Zentrum das Erzä
 hlen biblischer Geschichten steht. Dieser Ansatz wurde von Jerome Berryman
  entwickelt und erprobt\, er orientiert sich an der Montessori Pädagogik. 
 Godly Play möchte vor allem Kinder - und auch Erwachsene - befähigen\, sel
 bständiges theologisches Denken und Verstehen und die eigene religiöse Spr
 ache zu entwickeln. Im Mittelpunkt steht das Erzählen und Spiel einer bibl
 ischen Geschichte als ureigene Form von Kindern\, sich Dinge anzueignen. U
 ns überzeugt dieser religionspädagogische Ansatz\, daher bieten wir regelm
 äßig unterschiedliche Fortbildungsformate zu Godly Play an:\nBeim Kennenle
 rntag erhalten Sie Einblick in Hintergrund und Praxis von Godly Play. \nSi
 e erleben eine vollständige Godly Play Einheit mit allen Phasen und Elemen
 ten. Vor allem das gemeinsame Ergründen (‚Wondering‘) zeigt das Potential 
 dieses kindorientierten Theologisierens auf. Auch Fragen der Umsetzung in 
 Schule und Gemeinde greifen wir auf. Danach sind  Sie sind gerüstet mit ei
 genen Versuchen zu beginnen! \nEin Kennenlerntag ist Voraussetzung für den
  Erzählkurs!\nReferentin: Pastorin Christiane Zimmermann-Fröb\, Godly-Play
 -Fortbildnerin\nKostenanteil: 15 Euro (inkl. Imbiss)\nAnmeldung bis zum 16
 .03.2026
DTSTART;TZID=Europe/Berlin:20260323T133000
DTEND;TZID=Europe/Berlin:20260323T180000
LOCATION:Bonn: Haus der Ev. Kirche Bonn
SUMMARY:Kennenlern-Nachmittag „Gott im Spiel“ :: Godly Play biblische Gesch
 ichten erzählen und ergründen
URL:https://termine.ekir.de/veranstaltung_im_detail994990.html
END:VEVENT
END:VCALENDAR
